BEGIN:VCALENDAR
VERSION:2.0
PRODID:-//קהילת HORIZON - ECPv6.2.4//NONSGML v1.0//EN
CALSCALE:GREGORIAN
METHOD:PUBLISH
X-WR-CALNAME:קהילת HORIZON
X-ORIGINAL-URL:https://www.horizon-space.com
X-WR-CALDESC:אירועים ל קהילת HORIZON
REFRESH-INTERVAL;VALUE=DURATION:PT1H
X-Robots-Tag:noindex
X-PUBLISHED-TTL:PT1H
BEGIN:VTIMEZONE
TZID:UTC
BEGIN:STANDARD
TZOFFSETFROM:+0000
TZOFFSETTO:+0000
TZNAME:UTC
DTSTART:20240101T000000
END:STANDARD
END:VTIMEZONE
BEGIN:VEVENT
DTSTART;VALUE=DATE:20240128
DTEND;VALUE=DATE:20240129
DTSTAMP:20260424T130427
CREATED:20240127T201534Z
LAST-MODIFIED:20240127T201534Z
UID:6397-1706400000-1706486399@www.horizon-space.com
SUMMARY:תערוכת “מבט לאינסוף”
DESCRIPTION:צלמי חלל ישראלים מציגים: “מבט אל האינסוף”\, תערוכה נודדת של צילומי חלל מרהיבים ביופיים\, במסגרתה נצא למסע מפעים לבבות\, שראשיתו בצילומים של גרמי שמיים קרובים\, כגון: השמש והירח\, והמשכו הרחק אל מרחביו האינסופיים של החלל העמוק\, שם נפגוש\, בין השאר\, בצבירי כוכבים\, בערפיליות ובגלקסיות המרוחקות עשרות ואף מאות מיליוני שנות אור מכדור הארץ. הצילומים המרהיבים המוצגים לפניכם\, לא צולמו במצפי כוכבים גדולים או בעזרת טלסקופי חלל משוכללים\, אלא באמצעות ציוד ביתי של חובבי אסטרונמיה מושבעים\, שהשמיים עבורם מעולם לא היו גבול.
URL:https://www.horizon-space.com/event/%d7%aa%d7%a2%d7%a8%d7%95%d7%9b%d7%aa-%d7%9e%d7%91%d7%98-%d7%9c%d7%90%d7%99%d7%a0%d7%a1%d7%95%d7%a3/
LOCATION:בית רותר חולון\, אחד במאי 36\, חולון
CATEGORIES:Space week 2024
ATTACH;FMTTYPE=image/jpeg:https://www.horizon-space.com/wp-content/uploads/2024/01/מבט-לאינסוף.jpg
END:VEVENT
BEGIN:VEVENT
DTSTART;TZID=UTC:20240128T080000
DTEND;TZID=UTC:20240128T130000
DTSTAMP:20260424T130427
CREATED:20240126T212403Z
LAST-MODIFIED:20240127T202953Z
UID:6292-1706428800-1706446800@www.horizon-space.com
SUMMARY:האקתון מאדים לתלמידים
DESCRIPTION:הוריזון\, קהילת מחנכי החלל של סוכנות החלל הישראלית\, מזמינה אתכם להצטרף יחד עם התלמידים להאקתון חלל: חוויה מיוחדת בה ידרשו התלמידים לגייס יצירתיות וידע בנושא מערכת השמש\, וזאת על מנת לתכנן ולהציג רעיון חדשני\, יצירתי ועתידני.\nמה נושא ההאקתון? את זה נחשוף בפתח ההאקתון.\n\nלוחות זמנים:\n\nרישום (ללא עלות) עד ה-17.1.24.\nלאחר קבלת אישור על ההשתתפות\, יש לשריין כיתה עם מחשב לכל צוות\, רמקול ומקרן או מסך. מומלץ להקדיש זמן למידה על מערכת השמש עם מיקוד במאדים.\nהשלב הראשון של האקתון יתקיים ביום א’ 28.1.24 בשעות הלימודים. הגשת מצגות באותו יום\nמספר מצומצם של קבוצות יעלו לשלב הגמר אשר יתקיים ביום שלישי 30.1.24.\n\n 
URL:https://www.horizon-space.com/event/%d7%94%d7%90%d7%a7%d7%aa%d7%95%d7%9f-%d7%9e%d7%90%d7%93%d7%99%d7%9d-%d7%9c%d7%aa%d7%9c%d7%9e%d7%99%d7%93%d7%99%d7%9d/
CATEGORIES:Space week 2024,מאדים
ATTACH;FMTTYPE=image/jpeg:https://www.horizon-space.com/wp-content/uploads/2024/01/hackathon24.jpg
END:VEVENT
BEGIN:VEVENT
DTSTART;TZID=UTC:20240128T100000
DTEND;TZID=UTC:20240128T130000
DTSTAMP:20260424T130427
CREATED:20240126T212801Z
LAST-MODIFIED:20240127T202825Z
UID:6296-1706436000-1706446800@www.horizon-space.com
SUMMARY:המשדר המרכזי עם אודי ואביעד חידונים\, מערכונים וניסויים
DESCRIPTION:אודי ואביעד מחכים לכם עם מערכוני חלל\, חידונים ואורחים מיוחדים\, מאדריכלית חלל ועד ד”ר מולקולה.המשדר יועבר מעמוד זה.כדאי להכין מראשניסוי כפפה: חומץ\, שקית סודה לשתייה\, כפפה חד פעמית\, כוסניסוי הפרופלור: 2 קשיותניסוי הנר (בהשגחת הורים): נר\, צלחת\, מים\, בקבוק זכוכית עם פתח גדול
URL:https://www.horizon-space.com/event/%d7%94%d7%9e%d7%a9%d7%93%d7%a8-%d7%94%d7%9e%d7%a8%d7%9b%d7%96%d7%99-%d7%a2%d7%9d-%d7%90%d7%95%d7%93%d7%99-%d7%95%d7%90%d7%91%d7%99%d7%a2%d7%93-%d7%97%d7%99%d7%93%d7%95%d7%a0%d7%99%d7%9d-%d7%9e%d7%a2/
CATEGORIES:Space week 2024
ATTACH;FMTTYPE=image/jpeg:https://www.horizon-space.com/wp-content/uploads/2024/01/המשדר-המרכזי-עם-אודי-ואביעד.jpg
END:VEVENT
BEGIN:VEVENT
DTSTART;TZID=UTC:20240128T120000
DTEND;TZID=UTC:20240128T140000
DTSTAMP:20260424T130427
CREATED:20240126T213129Z
LAST-MODIFIED:20240127T110542Z
UID:6300-1706443200-1706450400@www.horizon-space.com
SUMMARY:לגעת בחלל במצפה אלקאסמי (ערבית)
DESCRIPTION:במסגרת שבוע החלל הישראלי מכללת אלקאסמי בשיתוף סוכנות החלל הישראלית מזמינות אתכם לסדנאות מרתקות המשלבות הדגמות והפעלות שונות\, להמחשת נושאים מתחום החלל והאסטרונומיה.
URL:https://www.horizon-space.com/event/%d7%9c%d7%92%d7%a2%d7%aa-%d7%91%d7%97%d7%9c%d7%9c-%d7%91%d7%9e%d7%a6%d7%a4%d7%94-%d7%90%d7%9c%d7%a7%d7%90%d7%a1%d7%9e%d7%99-%d7%a2%d7%a8%d7%91%d7%99%d7%aa/
CATEGORIES:Space week 2024
ATTACH;FMTTYPE=image/jpeg:https://www.horizon-space.com/wp-content/uploads/2024/01/לגעת-בחלל-במצפה-אלקאסמי-ערבית.jpg
END:VEVENT
BEGIN:VEVENT
DTSTART;TZID=UTC:20240128T183000
DTEND;TZID=UTC:20240128T213000
DTSTAMP:20260424T130427
CREATED:20240126T215757Z
LAST-MODIFIED:20240127T110502Z
UID:6319-1706466600-1706477400@www.horizon-space.com
SUMMARY:מהפלנתניה ישר לכוכבים
DESCRIPTION:לכבוד שבוע החלל הישראלי הפלנתניה בשיתוף סוכנות החלל הישראלית מזמינות אתכם לפעילות חללית מיוחדת ומאתגרת יחד למען טכנולוגיות העתיד\, עם סדנאות\, הדרכות\, מופעים והפעלות.מה בתוכנית:נבנה חללית ישאלית מקורית וניצור פאצ’ משימה אישינצטלם במתחם סלפי ענק ונצטרף לאסטרונאוטים המוביליםנהנה מתערוכת חלל מיוחדת המוקדשת לתעשיית החלל הישראליותנצפה במציאות מדומה ובמופע ייחודי בפלנטריוםנתצפת על הכוכבים תוך שימוש במבחר טלסקופים (בהתאם לתנאי מזג האווויר)
URL:https://www.horizon-space.com/event/%d7%9e%d7%94%d7%a4%d7%9c%d7%a0%d7%aa%d7%a0%d7%99%d7%94-%d7%99%d7%a9%d7%a8-%d7%9c%d7%9b%d7%95%d7%9b%d7%91%d7%99%d7%9d/
LOCATION:פלנתניה\, צ'יאונה (סמפו) סוגיהארה 1\, נתניה
CATEGORIES:Space week 2024
ATTACH;FMTTYPE=image/jpeg:https://www.horizon-space.com/wp-content/uploads/2024/01/פלנתניה-1.jpg
END:VEVENT
BEGIN:VEVENT
DTSTART;TZID=UTC:20240128T200000
DTEND;TZID=UTC:20240128T200000
DTSTAMP:20260424T130427
CREATED:20240122T121012Z
LAST-MODIFIED:20240122T121350Z
UID:6191-1706472000-1706472000@www.horizon-space.com
SUMMARY:מסע אל הכוכבים במסגרת  שבוע החלל הישראלי  בית רותר\, חולון
DESCRIPTION:המרכז הטכנולוגי “בית רותר” חולון מזמין אתכם להצטרף למסע אל הכוכבים במסגרת  שבוע החלל הישראלי! 🚀🔭\nהצטרפו אלינו לערב של הרצאות\, פעילויות חוויתיות\, תערוכת צילומים של צלמי חלל ישראליים ותצפית טלסקופית על שמי הערב (התצפית תתקיים בהתאם לתנאי מזג האוויר).\nיום ראשון | 28.1.24 | 17:00-20:00 | אחד במאי 36 חולון\nהאירוע מתקיים בשיתוף סוכנות החלל הישראלית במשרד החדשנות\, המדע והטכנולוגיה.
URL:https://www.horizon-space.com/event/%d7%9e%d7%a1%d7%a2-%d7%90%d7%9c-%d7%94%d7%9b%d7%95%d7%9b%d7%91%d7%99%d7%9d-%d7%91%d7%9e%d7%a1%d7%92%d7%a8%d7%aa-%d7%a9%d7%91%d7%95%d7%a2-%d7%94%d7%97%d7%9c%d7%9c-%d7%94%d7%99%d7%a9%d7%a8%d7%90%d7%9c/
LOCATION:בית רותר חולון\, אחד במאי 36\, חולון
CATEGORIES:Space week 2024
ATTACH;FMTTYPE=image/jpeg:https://www.horizon-space.com/wp-content/uploads/2024/01/421837392_336195242726615_8701764920330198364_n.jpg
END:VEVENT
END:VCALENDAR