BEGIN:VCALENDAR
VERSION:2.0
PRODID:-//קהילת HORIZON - ECPv6.2.4//NONSGML v1.0//EN
CALSCALE:GREGORIAN
METHOD:PUBLISH
X-ORIGINAL-URL:https://www.horizon-space.com
X-WR-CALDESC:אירועים ל קהילת HORIZON
REFRESH-INTERVAL;VALUE=DURATION:PT1H
X-Robots-Tag:noindex
X-PUBLISHED-TTL:PT1H
BEGIN:VTIMEZONE
TZID:UTC
BEGIN:STANDARD
TZOFFSETFROM:+0000
TZOFFSETTO:+0000
TZNAME:UTC
DTSTART:20240101T000000
END:STANDARD
END:VTIMEZONE
BEGIN:VEVENT
DTSTART;TZID=UTC:20240127T180000
DTEND;TZID=UTC:20240127T210000
DTSTAMP:20260424T130514
CREATED:20240127T111153Z
LAST-MODIFIED:20240127T111153Z
UID:6386-1706378400-1706389200@www.horizon-space.com
SUMMARY:שמים של תקווה
DESCRIPTION:ערב אסטרונומיה וחקר החלל לקהילת ניר עוז ולזכרו של תמיר אדר
URL:https://www.horizon-space.com/event/%d7%a9%d7%9e%d7%99%d7%9d-%d7%a9%d7%9c-%d7%aa%d7%a7%d7%95%d7%95%d7%94/
LOCATION:תיכון אורט כרמי גת
CATEGORIES:Space week 2024
ATTACH;FMTTYPE=image/jpeg:https://www.horizon-space.com/wp-content/uploads/2024/01/שמים-של-תקווה.jpg
END:VEVENT
END:VCALENDAR