BEGIN:VCALENDAR
VERSION:2.0
PRODID:-//קהילת HORIZON - ECPv6.2.4//NONSGML v1.0//EN
CALSCALE:GREGORIAN
METHOD:PUBLISH
X-ORIGINAL-URL:https://www.horizon-space.com
X-WR-CALDESC:אירועים ל קהילת HORIZON
REFRESH-INTERVAL;VALUE=DURATION:PT1H
X-Robots-Tag:noindex
X-PUBLISHED-TTL:PT1H
BEGIN:VTIMEZONE
TZID:UTC
BEGIN:STANDARD
TZOFFSETFROM:+0000
TZOFFSETTO:+0000
TZNAME:UTC
DTSTART:20260101T000000
END:STANDARD
END:VTIMEZONE
BEGIN:VEVENT
DTSTART;TZID=UTC:20260128T180000
DTEND;TZID=UTC:20260128T220000
DTSTAMP:20260424T225641
CREATED:20260124T113345Z
LAST-MODIFIED:20260124T120111Z
UID:6737-1769623200-1769637600@www.horizon-space.com
SUMMARY:ממריאים לחלל – מ"אחווה" ירכא
DESCRIPTION:ממריאים לחלל – מ”אחווה” ירכא\n\n\nמתי: יום רביעי\, 28.1.26 | 18:00–22:00 \nאיפה: תיכון מקיף אחווה\, ירכא \nלמי: כל המשפחה \nהרשמה:  יש להירשם מראש \n\n\n\n\n\n\nערב של חלל\, סקרנות והשראה בתיכון אחווה בירכא!\nהפעילות לילדים\, לנוער ולמבוגרים.\nמה מחכה לכם?  \n\n\nתצפית בכוכבים\nסיור בתערוכות של צילומי אסטרונומיה מרהיבים\nמעבדה חווייתית לבניית ננו־לוויינים\nמשחקים והפעלות מדעיות מותאמות לכל המשפחה\nפלנטריום חווייתי\nפעילות ייחודית בחווה הידרופונית ועוד הפתעות מרתקות!\n\n\nפרטים נוספים:\n\nלהגעה: בווייז – תיכון מקיף אחווה\, ירכא\nיצירת קשר:  052-5867190\nמידע על נגישות לבעלי מוגבלויות: קיימת נגישות מלאה לנכים.
URL:https://www.horizon-space.com/event/%d7%9e%d7%9e%d7%a8%d7%99%d7%90%d7%99%d7%9d-%d7%9c%d7%97%d7%9c%d7%9c-%d7%9e%d7%90%d7%97%d7%95%d7%95%d7%94-%d7%99%d7%a8%d7%9b%d7%90/
LOCATION:תיכון מקיף אחווה\, תיכון מקיף אחווה\, ירכא
END:VEVENT
BEGIN:VEVENT
DTSTART;TZID=UTC:20260129T160000
DTEND;TZID=UTC:20260129T210000
DTSTAMP:20260424T225641
CREATED:20260124T114500Z
LAST-MODIFIED:20260124T114500Z
UID:6752-1769702400-1769720400@www.horizon-space.com
SUMMARY:הפלגה לעולמות רחוקים – במדעטק חיפה
DESCRIPTION:הפלגה לעולמות רחוקים – במדעטק חיפה\n\n\nמתי: יום חמישי\, 29.01.26 | 16:00–21:00 \nאיפה: מדעטק – בניין התערוכות\, שמריהו לווין 25\, חיפה \nעבור מי: לכל המשפחה \nהרשמה: יש להירשם מראש \n\n\n\n\n\nהצטרפו אלינו לערב מדעי-חווייתי בתערוכות אגף החלל החדש של מדעטק\, שבו נפליג יחד אל מחוזות שמעבר לשמש. נצלול אל עולמות רחוקים ונחקור גופים מסתוריים שמחוץ למערכת השמש\, נבין איך נוצרים כוכבים ומה קורה כשמרחב וזמן מתעקמים סביב חור שחור. נצא למסע בחלל בחללית אימרסיבית וננחת נחיתה רכה עם קפסולת סויוז\, נתרשם מלוויין הישראלי החדשני של חברת Astroscale ונרחף בתחנת החלל בעזרת מציאות מדומה.\n\nמה בתוכנית:\n\nתערוכות חלל אינטראקטיביות: מסע בחללית אימרסיבית – מחיפה ועד קצות מערכת השמש\, מפגש מקרוב עם דגם בגודל מלא של קפסולת סויוז המחזירה אסטרואוטים לכדור הארץ\, תצוגת דגמי לוויינים וטכנולוגיות חלל\, התנסות חווייתית בפריטי ציוד של אסטרונאוטים ועוד!\nהחיים מחוץ לכדור הארץ- מופע הדגמות בהשתתפות הקהל.\nדיבייט על חלל – מופע מרתק על סוגיות מסעירות בחקר החלל.\nהרצאות חלל: כולנו אבק כוכבים\, אסטרוביולוגיה יקום וחייזרים.\nהכבידה על פי אינשטיין – הדגמה של עיקום המרחב זמן.\nאתגרים וסדנאות: סידור מערכת השמש\, איך נגור במאדים? ועוד.\nצילום מהחלל: הדגמות במצלמות כשל לווייני אופק.\nרובונאוט: הדגמה ומופע על סיוע של רובוטים במשימות חלל.\nשיגור טילים: תחרות עיצוב ושיגורי טילים.\n\n\nפרטים נוספים:\n\nדרכי הגעה:\n\nבווייז: שמריהו לוין 25 חיפה\nמהרכבת לממשיכים באוטובוס: ירידה בתחנת חיפה בת גלים\, תחנת האוטובוס ברחבה מול היציאה מתחנת הרכבת\, קווים 37 או 28 עד התחנה ברחוב בלפור\, מול הכניסה למדעטק.\nמהרכבת לממשיכים במונית: הכי כדאי לרדת בתחנת מרכז-השמונה.\nמתחנה מרכזית חוף הכרמל: קווי אוטובוס 112\, 115 – ירידה בתחנה ראשונה ברחוב הרצל.\nממרכזית המפרץ: קו 115\, או קו 3 במטרונית – ירידה בתחנת בית הקרנות. כרמלית (כרבע שעה הליכה מתחנת רכבת מרכז-השמונה): ירידה בתחנת הנביאים או מסדה.\n\n\nלבירורים: 04-8614444\nמידע על נגישות לבעלי מוגבלויות: קיימת נגישות מלאה לנכים. כל חלקי המוזיאון נגישים לנכים המשתמשים בכיסאות גלגלים: בבניין הראשי ישנה מעלית ומסדרונות רחבים המאפשרים מעבר בין התערוכות. מידע נוסף אצל רכז הנגישות: יוסי חדיד 04-8614536\, yossi.hadid@madatech.org.il
URL:https://www.horizon-space.com/event/%d7%94%d7%a4%d7%9c%d7%92%d7%94-%d7%9c%d7%a2%d7%95%d7%9c%d7%9e%d7%95%d7%aa-%d7%a8%d7%97%d7%95%d7%a7%d7%99%d7%9d-%d7%91%d7%9e%d7%93%d7%a2%d7%98%d7%a7-%d7%97%d7%99%d7%a4%d7%94/
LOCATION:מדעטק חיפה\, שמריהו לווין 25\, חיפה
CATEGORIES:Space week
END:VEVENT
BEGIN:VEVENT
DTSTART;TZID=UTC:20260129T160000
DTEND;TZID=UTC:20260129T210000
DTSTAMP:20260424T225641
CREATED:20260124T142321Z
LAST-MODIFIED:20260124T142321Z
UID:6886-1769702400-1769720400@www.horizon-space.com
SUMMARY:פותחים אופקים לחלל
DESCRIPTION:פותחים אופקים לחלל\n\n\nמתי: יום חמישי\, 29.1.2026\, 16:00–21:00 \nאיפה: תפוח פיס אופקים\, דרך הטייסים 4\, אופקים \nלמי: לכל המשפחה \n  \n\n\n\n\n\nמרכז המדעים אופקים מזמין את הקהל הרחב לערב שכולו חלל והשראה. הפעילויות עוברות בסבבים – כל חצי שעה ויכללו מגוון רחב של מופעים\, סדנאות\, הפעלות\, פעילות לקטנטנים ועוד הפתעות מלהיבות. בין הפעילויות: \n\nפלנטריום- הדמיית שמי הלילה\nמעבורת קולומביה ואילן רמון ז”ל – לזכרם!\nמיני פלנטריום – יצירת מיני פלנטריום אישי לחדר\nחשיפה לטכנולוגיות חדשניות – הולוגרמות\, מציאות מדומה\, מציאות רבודה\nאתגרי חשיבה – חידות משחקי חשיבה ואתגרים\nיצירות – תכשיטים מהחלל\, גבישים\, ערפיליות\nבקרה ושליטה – התנסות בהפעלת רכבים או רחפנים\nמזכרת מהחלל – הצטלם כאסטרונאוט תחנה פתוחה לפי תור\nמשחקי חלל – מחשבים פרוסים עם פעילויות בהפעלה עצמית\n\n  \nלבירורים:  08-9921313
URL:https://www.horizon-space.com/event/%d7%a4%d7%95%d7%aa%d7%97%d7%99%d7%9d-%d7%90%d7%95%d7%a4%d7%a7%d7%99%d7%9d-%d7%9c%d7%97%d7%9c%d7%9c/
LOCATION:תפוח פיס אופקים\, דרך הטייסים 4\,\, אופקים
CATEGORIES:Space week
END:VEVENT
BEGIN:VEVENT
DTSTART;TZID=UTC:20260129T163000
DTEND;TZID=UTC:20260129T193000
DTSTAMP:20260424T225641
CREATED:20260124T114116Z
LAST-MODIFIED:20260124T114116Z
UID:6747-1769704200-1769715000@www.horizon-space.com
SUMMARY:פעילות חלל מדעית – בחווידע כרמיאל
DESCRIPTION:פעילות חלל מדעית – בחווידע כרמיאל\n\n\nמתי: חמישי\, 29.1.2026\, 19:30–16:30 \nאיפה: צה”ל 103 א’\, כרמיאל \nלמי: לכל המשפחה. \nהרשמה: יש להירשם מראש בעלות סמלית של 20 ש”ח \n\n\n\n\n\n\nמופע מדעי של ניסויים מדמים תנאי חלל\, ניסויים אישיים\, ערכות בנייה חלליות\, פלנטריום\, שיגור חלליות\, לונה פארק מדעי\, חדר חושך. \nבמידה שמזג האויר יאפשר\, נערוך תצפית כוכבים. \n\n\n\nפרטים נוספים  \n\nפרטי קשר לבירורים: 04-9081240\, ואטסאפ 0543564333\, m-mada@m-karmiel.org\nנגישות לבעלי מוגבלויות: המקום מונגש.
URL:https://www.horizon-space.com/event/%d7%a4%d7%a2%d7%99%d7%9c%d7%95%d7%aa-%d7%97%d7%9c%d7%9c-%d7%9e%d7%93%d7%a2%d7%99%d7%aa-%d7%91%d7%97%d7%95%d7%95%d7%99%d7%93%d7%a2-%d7%9b%d7%a8%d7%9e%d7%99%d7%90%d7%9c/
LOCATION:בחווידע כרמיאל\, צה"ל 103 א\,  כרמיאל
CATEGORIES:Space week
END:VEVENT
BEGIN:VEVENT
DTSTART;TZID=UTC:20260129T173000
DTEND;TZID=UTC:20260129T200000
DTSTAMP:20260424T225641
CREATED:20260124T123440Z
LAST-MODIFIED:20260124T123440Z
UID:6831-1769707800-1769716800@www.horizon-space.com
SUMMARY:בין כוכבים – בבית רותר חולון
DESCRIPTION:בין כוכבים – בבית רותר חולון\n\n\nמתי: יום שני\, 29.1.26\, בשעות 17:30–20:00 \nאיפה: אחד במאי 36 חולון \nלמי: משפחות וילדים מגיל 6 ומעלה \nהרשמה: יש להירשם מראש בעלות 35 שקלים \n  \n\n\n\n\n\n\nהמרכז הטכנולוגי “בית רותר” חולון מזמין אתכם להצטרף למסע אל הכוכבים במסגרת שבוע החלל הישראלי! \nהצטרפו אלינו לערב של הרצאות\, פעילויות חוויתיות ותצפית טלסקופית על שמי הערב (התצפית תתקיים בהתאם לתנאי מזג האוויר). \n\n\nפרטים נוספים\n\nפרטי קשר לבירורים נוספים: Roter@holon.muni.il  |  03-5097466\nפרטים על נגישות לבעלי מוגבלויות: המקום נגיש\, במקום יש מקלט שהגישה אליו היא באמצעות מדרגות.
URL:https://www.horizon-space.com/event/%d7%91%d7%99%d7%9f-%d7%9b%d7%95%d7%9b%d7%91%d7%99%d7%9d-%d7%91%d7%91%d7%99%d7%aa-%d7%a8%d7%95%d7%aa%d7%a8-%d7%97%d7%95%d7%9c%d7%95%d7%9f/
LOCATION:בית רותר חולון\, אחד במאי 36\, חולון
CATEGORIES:Space week
END:VEVENT
BEGIN:VEVENT
DTSTART;TZID=UTC:20260129T180000
DTEND;TZID=UTC:20260129T210000
DTSTAMP:20260424T225641
CREATED:20260124T120632Z
LAST-MODIFIED:20260124T120632Z
UID:6784-1769709600-1769720400@www.horizon-space.com
SUMMARY:כוכבים קטנים\, חלומות גדולים – במרכז החלל טייבה
DESCRIPTION:כוכבים קטנים\, חלומות גדולים – במרכז החלל טייבה\n\n\nמתי: יום חמישי\, 29.1.2026\, 18:00–21:00 \nאיפה: תפוח פיס ומרכז חלל טייבה \nלמי: לכל המשפחה \n  \n\n\n\n\n\n“כוכבים קטנים – חלומות גדולים” הינו אירוע חווייתי ומעורר השראה במסגרת שבוע החלל הישראלי\, המזמין ילדים\, נוער ומשפחות לצאת למסע מרתק אל היקום. במהלך האירוע ייהנו המבקרים מתצפית מודרכת בכוכבים\, בכוכבי לכת ובגרמי שמיים נבחרים באמצעות טלסקופים\, לצד פעילויות חקר אינטראקטיביות העוסקות במערכת השמש\, מחזור חיי כוכבים\, חקר החלל הישראלי\, לוויינים ואסטרונאוטים. המשתתפים ייחשפו לסיפורים מרתקים על היקום\, יתנסו בפעילויות מדעיות מותאמות גיל\, ויגלו כיצד סקרנות\, מדע ודמיון יכולים להפוך חלום קטן למסע גדול אל החלל. \n  \nלבירורים:  09-7996672
URL:https://www.horizon-space.com/event/%d7%9b%d7%95%d7%9b%d7%91%d7%99%d7%9d-%d7%a7%d7%98%d7%a0%d7%99%d7%9d-%d7%97%d7%9c%d7%95%d7%9e%d7%95%d7%aa-%d7%92%d7%93%d7%95%d7%9c%d7%99%d7%9d-%d7%91%d7%9e%d7%a8%d7%9b%d7%96-%d7%94%d7%97/
LOCATION:תפוח פיס ומרכז חלל טייבה
CATEGORIES:Space week
END:VEVENT
BEGIN:VEVENT
DTSTART;TZID=UTC:20260129T200000
DTEND;TZID=UTC:20260129T200000
DTSTAMP:20260424T225641
CREATED:20260124T143359Z
LAST-MODIFIED:20260124T143359Z
UID:6906-1769716800-1769716800@www.horizon-space.com
SUMMARY:סרט והרצאה: הפרידה הארוכה מכולן במצפה רמון
DESCRIPTION:  \n  \n \n  \nסרט והרצאה: הפרידה הארוכה מכולן\n\n\nמתי: יום חמישי\, 29.1.26\, 20:00 \nאיפה: סינמכתש\, שדרות בן גוריון 21\, מצפה רמון \nלמי: חובבי חלל וכל מי שתוהה אם מאדים יהיה אי פעם בית לאנושות \nהרשמה: יש להירשם מראש\, בעלות 30 שקלים \n\n\n\n\n\nסוכנות החלל הישראלית\, קופרו וסינמכתש מזמינים אתכם להרצאה וסרט במצפה רמון! \nהסרט: “הפרידה הארוכה מכולן” | ישראל\, קנדה 2022 | אנגלית (כתוביות בעברית) \nהאם הייתם רוצים לבקר במאדים? ומה אם היו אומרים שיש סיכוי שתשתגעו בדרך? ולמשך איזו תקופה הייתם מוכנים להיפרד מאהוביכם על מנת להגשים את חלומותיכם הפרועים? השאלות האלה ואחרות ילוו אתכם בזמן ואחרי הצפייה בסרטו של עידו מזרחי\, המתעד את הנעשה מאחורי הקלעים של התוכנית הגרנדיוזית של נאס”א לשלוח אסטרונאוטים למאדים תוך עשור. \nבימוי: עדו מזרחי | הפיקו וכתבו: עדו מזרחי וניר סער \n  \nההרצאה: “האם נגיע למאדים?” \nהחלום להגיע למאדים חי ובועט כבר עשרות שנים. בר חיון מסוכנות החלל הישראלית\, יוצר הפודקאסט “סוכן חלל” בתאגיד השידור\, יספר מה צריך לקרות כדי שהפעם החלום הזה יתגשם ומה בעצם יצא מזה לאנושות.
URL:https://www.horizon-space.com/event/%d7%a1%d7%a8%d7%98-%d7%95%d7%94%d7%a8%d7%a6%d7%90%d7%94-%d7%94%d7%a4%d7%a8%d7%99%d7%93%d7%94-%d7%94%d7%90%d7%a8%d7%95%d7%9b%d7%94-%d7%9e%d7%9b%d7%95%d7%9c%d7%9f-%d7%91%d7%9e%d7%a6%d7%a4%d7%94-%d7%a8/
LOCATION:סינמכתש\, שדרות בן גוריון 21\, מצפה רמון\, שדרות בן גוריון 21\,\, מצפה רמון
CATEGORIES:Space week
END:VEVENT
END:VCALENDAR