BEGIN:VCALENDAR
VERSION:2.0
PRODID:-//קהילת HORIZON - ECPv6.2.4//NONSGML v1.0//EN
CALSCALE:GREGORIAN
METHOD:PUBLISH
X-WR-CALNAME:קהילת HORIZON
X-ORIGINAL-URL:https://www.horizon-space.com
X-WR-CALDESC:אירועים ל קהילת HORIZON
REFRESH-INTERVAL;VALUE=DURATION:PT1H
X-Robots-Tag:noindex
X-PUBLISHED-TTL:PT1H
BEGIN:VTIMEZONE
TZID:UTC
BEGIN:STANDARD
TZOFFSETFROM:+0000
TZOFFSETTO:+0000
TZNAME:UTC
DTSTART:20220101T000000
END:STANDARD
END:VTIMEZONE
BEGIN:VEVENT
DTSTART;TZID=UTC:20230130T160000
DTEND;TZID=UTC:20230130T200000
DTSTAMP:20260424T214124
CREATED:20230126T215601Z
LAST-MODIFIED:20230126T215935Z
UID:5660-1675094400-1675108800@www.horizon-space.com
SUMMARY:פעילות חלל לקהל הרחב עם חניכי תנועת הנוער - יהוד-מונוסון
DESCRIPTION:פעילות חלל לקהל הרחב עם חניכי תנועת הנוער 
URL:https://www.horizon-space.com/event/%d7%a4%d7%a2%d7%99%d7%9c%d7%95%d7%aa-%d7%97%d7%9c%d7%9c-%d7%a2%d7%9d-%d7%97%d7%a0%d7%99%d7%9b%d7%99-%d7%aa%d7%a0%d7%95%d7%a2%d7%aa-%d7%94%d7%a0%d7%95%d7%a2%d7%a8-%d7%99%d7%94%d7%95%d7%93-%d7%9e%d7%95/
LOCATION:מתחם תנועות הנוער – יהוד\, יהוד-מונוסון\, יהוד-מונוסון\, Israel
CATEGORIES:Space week 23
END:VEVENT
BEGIN:VEVENT
DTSTART;TZID=UTC:20230130T130000
DTEND;TZID=UTC:20230130T150000
DTSTAMP:20260424T214124
CREATED:20230126T153900Z
LAST-MODIFIED:20230126T154327Z
UID:5524-1675083600-1675090800@www.horizon-space.com
SUMMARY:סדרת הרצאות חיים תבוניים מחוץ למערכת השמש-באר גנים
DESCRIPTION:סדרת הרצאות למספר שכבות גיל בבית הספר באר גנים על פוטנציאל קיומם של חיים תבוניים במערכות שמש אחרות. מרצה\, ניר דוברובסקי \n 
URL:https://www.horizon-space.com/event/%d7%a1%d7%93%d7%a8%d7%aa-%d7%94%d7%a8%d7%a6%d7%90%d7%95%d7%aa-%d7%97%d7%99%d7%99%d7%9d-%d7%aa%d7%91%d7%95%d7%a0%d7%99%d7%99%d7%9d-%d7%9e%d7%97%d7%95%d7%a5-%d7%9c%d7%9e%d7%a2%d7%a8%d7%9b%d7%aa-%d7%94/
LOCATION:באר גנים\, בית ספר קהילתי באר גנים\, באר גנים\, Israel
CATEGORIES:Space week 23
ATTACH;FMTTYPE=image/jpeg:https://www.horizon-space.com/wp-content/uploads/2023/01/978723_1_0502-exoplanet-life_standard.jpg
END:VEVENT
BEGIN:VEVENT
DTSTART;TZID=UTC:20230130T090000
DTEND;TZID=UTC:20230130T130000
DTSTAMP:20260424T214124
CREATED:20230126T211624Z
LAST-MODIFIED:20230126T211906Z
UID:5636-1675069200-1675083600@www.horizon-space.com
SUMMARY:פעילות בנושא תחנת החלל הבינלאומית - עמק-חפר
DESCRIPTION:פעילות בנושא תחנת החלל הבינלאומית לתלמידי כיתות ו בעמק חפר יחד עם נבחרת אילן רמון \nנציגי כיתות ו’ בבתי הספר היסודיים בעמק חפר: קדם\, שדות\, בית יצחק\, משגב רמבם
URL:https://www.horizon-space.com/event/%d7%a4%d7%a2%d7%99%d7%9c%d7%95%d7%aa-%d7%91%d7%a0%d7%95%d7%a9%d7%90-%d7%aa%d7%97%d7%a0%d7%aa-%d7%94%d7%97%d7%9c%d7%9c-%d7%94%d7%91%d7%99%d7%a0%d7%9c%d7%90%d7%95%d7%9e%d7%99%d7%aa-%d7%a2%d7%9e%d7%a7/
LOCATION:אשכול פיס עמק חפר\, עמק חפר\, עמק חפר\, Israel
CATEGORIES:Space week 23
END:VEVENT
BEGIN:VEVENT
DTSTART;TZID=UTC:20230130T080000
DTEND;TZID=UTC:20230130T120000
DTSTAMP:20260424T214124
CREATED:20230126T214246Z
LAST-MODIFIED:20230126T214600Z
UID:5654-1675065600-1675080000@www.horizon-space.com
SUMMARY:הרצאות לכל תלמידי העיר מאת מתנדבי SPACE IL - יהוד-מונוסון
DESCRIPTION:הרצאות לכל תלמידי העיר מתנדבי SPACE IL – צביקה קזורר\, אהר’לה גליל \nחטיבת פסגות\, ביס רמז שכבת ד\, ה\, ו\, ח
URL:https://www.horizon-space.com/event/%d7%94%d7%a8%d7%a6%d7%90%d7%95%d7%aa-%d7%9e%d7%90%d7%aa-%d7%9e%d7%aa%d7%a0%d7%93%d7%91%d7%99-space-il-%d7%99%d7%94%d7%95%d7%93-%d7%9e%d7%95%d7%a0%d7%95%d7%a1%d7%95%d7%9f-%d7%97%d7%98%d7%99%d7%91%d7%94/
LOCATION:אשכול פיס ובתי הספר – יהוד\, יהוד-מונוסון\, יהוד-מונוסון\, Israel
CATEGORIES:Space week 23
END:VEVENT
BEGIN:VEVENT
DTSTART;TZID=UTC:20230130T080000
DTEND;TZID=UTC:20230130T120000
DTSTAMP:20260424T214124
CREATED:20230126T213050Z
LAST-MODIFIED:20230126T214040Z
UID:5650-1675065600-1675080000@www.horizon-space.com
SUMMARY:הרצאות לכל תלמידי העיר מאת מתנדבי SPACE IL - יהוד-מונוסון
DESCRIPTION:הרצאות לכל תלמידי העיר מאת מתנדבי SPACE IL – בטי לינדמן\, צביקה קזורר\, אהר’לה גליל \nבתי ספר יסודיים רמז\, במעלה\, היובל\, אורנים\, חטיבת סביונים\, חטיבת פסגות\, תיכון מקיף שכבות ד\, ה\, ו\, ח\, תלמידי מגמת פיזיקה
URL:https://www.horizon-space.com/event/%d7%94%d7%a8%d7%a6%d7%90%d7%95%d7%aa-%d7%9e%d7%90%d7%aa-%d7%9e%d7%aa%d7%a0%d7%93%d7%91%d7%99-space-il-%d7%99%d7%94%d7%95%d7%93-%d7%9e%d7%95%d7%a0%d7%95%d7%a1%d7%95%d7%9f/
LOCATION:אשכול פיס ובתי הספר – יהוד\, יהוד-מונוסון\, יהוד-מונוסון\, Israel
CATEGORIES:Space week 23
END:VEVENT
BEGIN:VEVENT
DTSTART;TZID=UTC:20230129T180000
DTEND;TZID=UTC:20230129T200000
DTSTAMP:20260424T214124
CREATED:20230129T105527Z
LAST-MODIFIED:20230129T120339Z
UID:5760-1675015200-1675022400@www.horizon-space.com
SUMMARY:ערב פתוח במצפה הכוכבים העירוני מעלה אדומים
DESCRIPTION:ערב פתוח במצפה הכוכבים העירוני בשיתוף הורייזון\, פעילויות לילדים ולמבוגרים
URL:https://www.horizon-space.com/event/%d7%a2%d7%a8%d7%91-%d7%a4%d7%aa%d7%95%d7%97-%d7%91%d7%9e%d7%a6%d7%a4%d7%94-%d7%94%d7%9b%d7%95%d7%9b%d7%91%d7%99%d7%9d-%d7%94%d7%a2%d7%99%d7%a8%d7%95%d7%a0%d7%99-%d7%9e%d7%a2%d7%9c%d7%94-%d7%90%d7%93/
LOCATION:מעלה אדומים\, מעלה אדומים\, מעלה אדומים\, Israel
CATEGORIES:Space week 23
END:VEVENT
BEGIN:VEVENT
DTSTART;TZID=UTC:20230129T180000
DTEND;TZID=UTC:20230129T200000
DTSTAMP:20260424T214124
CREATED:20230126T205106Z
LAST-MODIFIED:20230126T205457Z
UID:5620-1675015200-1675022400@www.horizon-space.com
SUMMARY:ערב פתוח במצפה הכוכבים - מעלה-אדומים
DESCRIPTION:ערב פתוח במצפה הכוכבים העירוני בשיתוף הורייזון\, פעילויות לילדים ולמבוגרים  \n 
URL:https://www.horizon-space.com/event/%d7%9e%d7%a6%d7%a4%d7%94-%d7%94%d7%9b%d7%95%d7%9b%d7%91%d7%99%d7%9d-%d7%9e%d7%a2%d7%9c%d7%94-%d7%90%d7%93%d7%95%d7%9e%d7%99%d7%9d/
LOCATION:במצפה הכוכבים – מעלה אדומים\, מעלה אדומים\, מעלה אדומים\, Israel
CATEGORIES:Space week 23
END:VEVENT
BEGIN:VEVENT
DTSTART;TZID=UTC:20230129T170000
DTEND;TZID=UTC:20230129T190000
DTSTAMP:20260424T214124
CREATED:20230126T220019Z
LAST-MODIFIED:20230126T220329Z
UID:5664-1675011600-1675018800@www.horizon-space.com
SUMMARY:פעילות יצירה - יהוד-מונוסון
DESCRIPTION:פעילות בשיתוף קמפוס MBT יצירה\, לווינים\, מדמה משגר\, מתחם צילומים ועוד \nעיריית יהוד-מונוסון ו MBT תעשיה אווירית
URL:https://www.horizon-space.com/event/%d7%a4%d7%a2%d7%99%d7%9c%d7%95%d7%aa-%d7%99%d7%a6%d7%99%d7%a8%d7%94-%d7%99%d7%94%d7%95%d7%93-%d7%9e%d7%95%d7%a0%d7%95%d7%a1%d7%95%d7%9f/
LOCATION:מתחם הגימבורי BIG יהוד-מונוסון\, יהוד-מונוסון\, יהוד-מונוסון\, Israel
CATEGORIES:Space week 23
END:VEVENT
BEGIN:VEVENT
DTSTART;TZID=UTC:20230129T170000
DTEND;TZID=UTC:20230129T183000
DTSTAMP:20260424T214124
CREATED:20230128T212849Z
LAST-MODIFIED:20230128T213911Z
UID:5709-1675011600-1675017000@www.horizon-space.com
SUMMARY:עפים לחלל - הרצליה
DESCRIPTION:אירוע קהילתי לילדי הגנים אשכול הנדיב נבון – עפים לחלל \nצילום מגנטים\, הדגמת שיגור\, תצפית טלסקופים\, סדנאות יצירה
URL:https://www.horizon-space.com/event/%d7%a2%d7%a4%d7%99%d7%9d-%d7%9c%d7%97%d7%9c%d7%9c-%d7%94%d7%a8%d7%a6%d7%9c%d7%99%d7%94-2/
LOCATION:אשכול הנדיב נבון – הרצליה\, רשי 5 מול אשכול הגנים\, הרצליה\, Israel
CATEGORIES:Space week 23
ATTACH;FMTTYPE=image/jpeg:https://www.horizon-space.com/wp-content/uploads/2023/01/WhatsApp-Image-2023-01-27-at-08.45.26.jpg
END:VEVENT
BEGIN:VEVENT
DTSTART;TZID=UTC:20230129T170000
DTEND;TZID=UTC:20230129T183000
DTSTAMP:20260424T214124
CREATED:20230126T220407Z
LAST-MODIFIED:20230126T220644Z
UID:5668-1675011600-1675017000@www.horizon-space.com
SUMMARY:עפים לחלל - הרצליה
DESCRIPTION:אירוע קהילתי לילדי הגנים – עפים לחלל \n 
URL:https://www.horizon-space.com/event/%d7%a2%d7%a4%d7%99%d7%9d-%d7%9c%d7%97%d7%9c%d7%9c-%d7%94%d7%a8%d7%a6%d7%9c%d7%99%d7%94/
LOCATION:מרכז מדעים\, מתנס יבור וגן גלילאו\, רשי 5 מול אשכול הגנים\, הרצליה\, Israel
CATEGORIES:Space week 23
END:VEVENT
BEGIN:VEVENT
DTSTART;TZID=UTC:20230129T160000
DTEND;TZID=UTC:20230129T200000
DTSTAMP:20260424T214124
CREATED:20230126T203016Z
LAST-MODIFIED:20230126T203449Z
UID:5601-1675008000-1675022400@www.horizon-space.com
SUMMARY:פעילות שבוע החלל - אופקים
DESCRIPTION:פלנטריום\, חדר בריחה\,חדר אמרסיבי\, הצגה\, פלוסנציה\, מציאות מדומה\, מציאות רבודה\, בניית דגמים\, פינת צילום אני אסטרונאוט ותצפית. \n 
URL:https://www.horizon-space.com/event/%d7%a4%d7%a2%d7%99%d7%9c%d7%95%d7%aa-%d7%a9%d7%91%d7%95%d7%a2-%d7%94%d7%97%d7%9c%d7%9c-%d7%90%d7%95%d7%a4%d7%a7%d7%99%d7%9d/
LOCATION:מרכז מדעים “תפוח פיס אופקים”\, אופקים\, אופקים\, Israel
CATEGORIES:Space week 23
END:VEVENT
BEGIN:VEVENT
DTSTART;TZID=UTC:20230129T150000
DTEND;TZID=UTC:20230129T200000
DTSTAMP:20260424T214124
CREATED:20230126T210930Z
LAST-MODIFIED:20230126T211403Z
UID:5630-1675004400-1675022400@www.horizon-space.com
SUMMARY:יריד חלל רשותי - עמק-חפר
DESCRIPTION:יריד חלל רשותי לתושבי עמק חפר (11 תחנות) לקהילת עמק-חפר \n 
URL:https://www.horizon-space.com/event/%d7%99%d7%a8%d7%99%d7%93-%d7%97%d7%9c%d7%9c-%d7%a8%d7%a9%d7%95%d7%aa%d7%99-%d7%a2%d7%9e%d7%a7-%d7%97%d7%a4%d7%a8/
LOCATION:אשכול פיס עמק חפר\, עמק חפר\, עמק חפר\, Israel
CATEGORIES:Space week 23
END:VEVENT
BEGIN:VEVENT
DTSTART;TZID=UTC:20230129T090000
DTEND;TZID=UTC:20230129T150000
DTSTAMP:20260424T214124
CREATED:20230126T210454Z
LAST-MODIFIED:20230126T211250Z
UID:5625-1674982800-1675004400@www.horizon-space.com
SUMMARY:יריד חלל קריית חינוך בן גוריון - עמק-חפר
DESCRIPTION:יריד חלל רשותי\, בבוקר לתלמידי קריית חינוך בן גוריון בעמק חפר  \n 
URL:https://www.horizon-space.com/event/%d7%99%d7%a8%d7%99%d7%93-%d7%97%d7%9c%d7%9c-%d7%a7%d7%a8%d7%99%d7%99%d7%aa-%d7%97%d7%99%d7%a0%d7%95%d7%9a-%d7%91%d7%9f-%d7%92%d7%95%d7%a8%d7%99%d7%95%d7%9f-%d7%a2%d7%9e%d7%a7-%d7%97%d7%a4%d7%a8/
LOCATION:אשכול פיס עמק חפר\, עמק חפר\, עמק חפר\, Israel
CATEGORIES:Space week 23
END:VEVENT
BEGIN:VEVENT
DTSTART;TZID=UTC:20230129T090000
DTEND;TZID=UTC:20230129T130000
DTSTAMP:20260424T214124
CREATED:20230128T183059Z
LAST-MODIFIED:20230128T190536Z
UID:5689-1674982800-1674997200@www.horizon-space.com
SUMMARY:יריד חלל - בית ספר דנצינגר - קריית שמונה
DESCRIPTION:יריד חלל בבית ספר דנצינגר בעיר (תלמדי בית הספר בלבד) \n 
URL:https://www.horizon-space.com/event/%d7%99%d7%a8%d7%99%d7%93-%d7%97%d7%9c%d7%9c-%d7%91%d7%99%d7%aa-%d7%a1%d7%a4%d7%a8-%d7%93%d7%a0%d7%a6%d7%99%d7%a0%d7%92%d7%a8-%d7%a7%d7%a8%d7%99%d7%99%d7%aa-%d7%a9%d7%9e%d7%95%d7%a0%d7%94/
LOCATION:בית ספר דנצינגר – קריית שמונה\, הירדן\, קריית שומנה\, Israel
CATEGORIES:Space week 23
END:VEVENT
BEGIN:VEVENT
DTSTART;TZID=UTC:20230127T083000
DTEND;TZID=UTC:20230127T130000
DTSTAMP:20260424T214124
CREATED:20230125T195438Z
LAST-MODIFIED:20230125T195610Z
UID:5497-1674808200-1674824400@www.horizon-space.com
SUMMARY:יום שיא בית ספר תדהר
DESCRIPTION:יום שיא – \,תערוכת תוצרי למידה\, קופסאות בריחה\, סדנאות יצירה
URL:https://www.horizon-space.com/event/%d7%9b%d7%a4%d7%a8-%d7%99%d7%94%d7%95%d7%a9%d7%95%d7%a2-%d7%99%d7%95%d7%9d-%d7%a9%d7%99%d7%90-copy-2/
LOCATION:בית ספר תדהר יקנעם
CATEGORIES:Space week 23
ORGANIZER;CN="%D7%97%D7%91%D7%99%D7%91%D7%94 %D7%92%D7%95%D7%9C%D7%93%D7%A0%D7%91%D7%A8%D7%92":MAILTO:haviva1201@gtzfonet.org
END:VEVENT
BEGIN:VEVENT
DTSTART;TZID=UTC:20230127T080000
DTEND;TZID=UTC:20230127T120000
DTSTAMP:20260424T214124
CREATED:20230126T221146Z
LAST-MODIFIED:20230126T221538Z
UID:5679-1674806400-1674820800@www.horizon-space.com
SUMMARY:ארוע קהילתי על הינע רקטי - הוד השרון
DESCRIPTION:ארוע קהילתי על הינע רקטי לקהילת שכונת נוה נאמן במסגרת אולימפיאדת החלל \n 
URL:https://www.horizon-space.com/event/%d7%90%d7%a8%d7%95%d7%a2-%d7%a7%d7%94%d7%99%d7%9c%d7%aa%d7%99-%d7%a2%d7%9c-%d7%94%d7%99%d7%a0%d7%a2-%d7%a8%d7%a7%d7%98%d7%99-%d7%94%d7%95%d7%93-%d7%94%d7%a9%d7%a8%d7%95%d7%9f/
LOCATION:בית הספר נוה נאמן – הוד השרון\, הוד השרון\, הוד השרון\, Israel
CATEGORIES:Space week 23
END:VEVENT
BEGIN:VEVENT
DTSTART;TZID=UTC:20230127T080000
DTEND;TZID=UTC:20230127T080000
DTSTAMP:20260424T214124
CREATED:20230128T190657Z
LAST-MODIFIED:20230128T211712Z
UID:5698-1674806400-1674806400@www.horizon-space.com
SUMMARY:שיעור בנושא חלל - בית יצחק
DESCRIPTION:שיעור בנושא חלל – כיתה ג3 \n 
URL:https://www.horizon-space.com/event/%d7%a9%d7%99%d7%a2%d7%95%d7%a8-%d7%91%d7%a0%d7%95%d7%a9%d7%90-%d7%97%d7%9c%d7%9c-%d7%91%d7%99%d7%aa-%d7%99%d7%a6%d7%97%d7%a7/
LOCATION:בית יצחק\, בית יצחק\, בית יצחק\, Israel
CATEGORIES:Space week 23
END:VEVENT
BEGIN:VEVENT
DTSTART;TZID=UTC:20230126T183000
DTEND;TZID=UTC:20230126T210000
DTSTAMP:20260424T214124
CREATED:20230126T195204Z
LAST-MODIFIED:20230126T195644Z
UID:5588-1674757800-1674766800@www.horizon-space.com
SUMMARY:הפנינג חלל - ראשון-לציון
DESCRIPTION:הפנינג חלל באשכול הפיס ראשון
URL:https://www.horizon-space.com/event/%d7%94%d7%a4%d7%a0%d7%99%d7%a0%d7%92-%d7%97%d7%9c%d7%9c-%d7%a8%d7%90%d7%a9%d7%95%d7%9f-%d7%9c%d7%a6%d7%99%d7%95%d7%9f/
LOCATION:אשכול פיס רביבים ראשון לציון\, גוש עציון 23\, ראשון לציון\, Israel
CATEGORIES:Space week 23
END:VEVENT
BEGIN:VEVENT
DTSTART;TZID=UTC:20230125T080000
DTEND;TZID=UTC:20230125T080000
DTSTAMP:20260424T214124
CREATED:20230128T212314Z
LAST-MODIFIED:20230128T212721Z
UID:5705-1674633600-1674633600@www.horizon-space.com
SUMMARY:הרצאות לתלמידי שכבת ה' שכבת ו' - יהוד-מונוסון
DESCRIPTION:הרצאות לתלמידי שכבת ה’ שכבת ו’ בית הספר אורנים מאת מתנדבי SPACE IL – צביקה קזורר \n 
URL:https://www.horizon-space.com/event/%d7%94%d7%a8%d7%a6%d7%90%d7%95%d7%aa-%d7%9c%d7%aa%d7%9c%d7%9e%d7%99%d7%93%d7%99-%d7%a9%d7%9b%d7%91%d7%aa-%d7%94-%d7%a9%d7%9b%d7%91%d7%aa-%d7%95-%d7%99%d7%94%d7%95%d7%93-%d7%9e%d7%95%d7%a0%d7%95%d7%a1/
LOCATION:ביס אורנים – יהוד מונוסון\, יהוד מונוסון\, יהוד מונוסון\, Israel
CATEGORIES:Space week 23
END:VEVENT
BEGIN:VEVENT
DTSTART;VALUE=DATE:20230125
DTEND;VALUE=DATE:20230126
DTSTAMP:20260424T214124
CREATED:20230126T193053Z
LAST-MODIFIED:20230126T193425Z
UID:5573-1674604800-1674691199@www.horizon-space.com
SUMMARY:פעילות לילדים - פתח-תקווה
DESCRIPTION:פעילות לילדים
URL:https://www.horizon-space.com/event/%d7%a4%d7%a2%d7%99%d7%9c%d7%95%d7%aa-%d7%9c%d7%99%d7%9c%d7%93%d7%99%d7%9d-%d7%a4%d7%aa%d7%97-%d7%aa%d7%a7%d7%95%d7%95%d7%94/
LOCATION:אולם הספורט גולדה\, ראשון לציון 8\, פתח תקווה\, Israel
CATEGORIES:Space week 23
END:VEVENT
BEGIN:VEVENT
DTSTART;TZID=UTC:20230124T083000
DTEND;TZID=UTC:20230124T130000
DTSTAMP:20260424T214124
CREATED:20230125T195024Z
LAST-MODIFIED:20230125T195352Z
UID:5492-1674549000-1674565200@www.horizon-space.com
SUMMARY:יום שיא בית ספר נעם הרצוג
DESCRIPTION:יום שיא – \,תערוכת תוצרי למידה\, קופסאות בריחה\, סדנאות יצירה
URL:https://www.horizon-space.com/event/%d7%9b%d7%a4%d7%a8-%d7%99%d7%94%d7%95%d7%a9%d7%95%d7%a2-%d7%99%d7%95%d7%9d-%d7%a9%d7%99%d7%90-copy/
LOCATION:עכו
CATEGORIES:Space week 23
ORGANIZER;CN="%D7%97%D7%91%D7%99%D7%91%D7%94 %D7%92%D7%95%D7%9C%D7%93%D7%A0%D7%91%D7%A8%D7%92":MAILTO:haviva1201@gtzfonet.org
END:VEVENT
BEGIN:VEVENT
DTSTART;TZID=UTC:20230120T080000
DTEND;TZID=UTC:20230120T080000
DTSTAMP:20260424T214124
CREATED:20230128T211813Z
LAST-MODIFIED:20230128T212210Z
UID:5702-1674201600-1674201600@www.horizon-space.com
SUMMARY:הרצאות לתלמידי חטיבת סביונים - יהוד-מונוסון
DESCRIPTION:הרצאות לתלמידי חטיבת (שכבת ח’) סביונים מתנדבי SPACE IL – בטי לינדמן \n 
URL:https://www.horizon-space.com/event/%d7%94%d7%a8%d7%a6%d7%90%d7%95%d7%aa-%d7%9c%d7%aa%d7%9c%d7%9e%d7%99%d7%93%d7%99-%d7%97%d7%98%d7%99%d7%91%d7%aa-%d7%a1%d7%91%d7%99%d7%95%d7%a0%d7%99%d7%9d-%d7%99%d7%94%d7%95%d7%93-%d7%9e%d7%95%d7%a0/
LOCATION:אשכול פיס יהוד\, רם כהן 1\, יהוד-מונוסון\, Israel
CATEGORIES:Space week 23
END:VEVENT
BEGIN:VEVENT
DTSTART;TZID=UTC:20221009T140000
DTEND;TZID=UTC:20221009T160000
DTSTAMP:20260424T214124
CREATED:20221006T055703Z
LAST-MODIFIED:20221006T055703Z
UID:5248-1665324000-1665331200@www.horizon-space.com
SUMMARY:כולנו תושבי שביל החלב בבית הספר  Copy
DESCRIPTION:
URL:https://www.horizon-space.com/event/%d7%9b%d7%95%d7%9c%d7%a0%d7%95-%d7%aa%d7%95%d7%a9%d7%91%d7%99-%d7%a9%d7%91%d7%99%d7%9c-%d7%94%d7%97%d7%9c%d7%91-%d7%91%d7%91%d7%99%d7%aa-%d7%94%d7%a1%d7%a4%d7%a8-copy/
CATEGORIES:כולנו יחד תושבי שביל החלב
END:VEVENT
BEGIN:VEVENT
DTSTART;TZID=UTC:20221009T140000
DTEND;TZID=UTC:20221009T160000
DTSTAMP:20260424T214124
CREATED:20221001T194211Z
LAST-MODIFIED:20221001T194211Z
UID:5187-1665324000-1665331200@www.horizon-space.com
SUMMARY:כולנו תושבי שביל החלב בבית הספר
DESCRIPTION:
URL:https://www.horizon-space.com/event/%d7%9b%d7%95%d7%9c%d7%a0%d7%95-%d7%aa%d7%95%d7%a9%d7%91%d7%99-%d7%a9%d7%91%d7%99%d7%9c-%d7%94%d7%97%d7%9c%d7%91-%d7%91%d7%91%d7%99%d7%aa-%d7%94%d7%a1%d7%a4%d7%a8/
CATEGORIES:כולנו יחד תושבי שביל החלב
END:VEVENT
BEGIN:VEVENT
DTSTART;TZID=UTC:20221006T193000
DTEND;TZID=UTC:20221006T220000
DTSTAMP:20260424T214124
CREATED:20221006T055728Z
LAST-MODIFIED:20221006T061233Z
UID:5250-1665084600-1665093600@www.horizon-space.com
SUMMARY:תצפית ירח קיצית באקו פארק חדרה
DESCRIPTION:חברות וחברים יקרים\, מוזמנים לתצפית חינמית הערב\, ה6 לאוקטובר\, באקו פארק חדרה. מוזמנים להגיע עם טלסקופים ומצב רוח טוב \n \n \n \n 
URL:https://www.horizon-space.com/event/%d7%aa%d7%a6%d7%a4%d7%99%d7%aa-%d7%99%d7%a8%d7%97-%d7%a7%d7%99%d7%a6%d7%99%d7%aa-%d7%91%d7%90%d7%a7%d7%95-%d7%a4%d7%90%d7%a8%d7%a7-%d7%97%d7%93%d7%a8%d7%94/
LOCATION:אקו פארק חדרה\, משמר הגבול 1\, חדרה\, Israel
CATEGORIES:כולנו יחד תושבי שביל החלב
ATTACH;FMTTYPE=image/jpeg:https://www.horizon-space.com/wp-content/uploads/2022/10/WhatsApp-Image-2022-10-04-at-09.33.14.jpeg
END:VEVENT
BEGIN:VEVENT
DTSTART;TZID=UTC:20221003T203000
DTEND;TZID=UTC:20221003T220000
DTSTAMP:20260424T214124
CREATED:20221001T194917Z
LAST-MODIFIED:20221003T162502Z
UID:5190-1664829000-1664834400@www.horizon-space.com
SUMMARY:דארט אימפקט
DESCRIPTION:ב27.09 פגעה החללית דארט של נאס”א\,  אשר שוגרה בנובמבר שנה שעברה\, באסטרואיד דימורפוס . \nמוזמנים לצפות בסרטון  השיגור של דארט\, גם הוא בליווי תוכני של ד”ר פולישוק\, אותו הכין איתי ליאון: \n\nhttps://www.horizon-space.com/wp-content/uploads/2022/10/VID-20220921-WA0023.mp4\nלכבוד האירוע החשוב והמוצלח של פגיעת החללית\, שמהווה נדבך חשוב בתכנית ההגנה העתידית של נאס”א  על כדור הארץ מפני פגיעת אסטרואיד\, נעביר לכם הרצאה מרתקת של ד”ר דוד פולישוק על משימת דארט\, שתיקרא דארט אימפקט. \nהאירוע יועבר בפייסבוק לייב\, להלן הלינק: https://www.facebook.com/460180562804026/videos/1825555117786220 \nוכן יעלה לערוץ היוטיוב של הורייזן עם כתוביות באנגלית\, להלן הערוץ: https://youtube.com/c/HorizonLive \nמוזמנים להירשם לאירוע בלחיצה על התמונה: \n \nOn  the 27.09\, NASA’s Dart spacecraft\, which was launched in November last year\, hit the Dimorphos asteroid. \nIn order to acknowledge the important and successful event of the spacecraft’s impact\, which is a big step and pillar in NASA’s future protection plan for the Earth against an asteroid impact\, we will provide you a fascinating lecture by Dr. David Polishuk about the Dart mission\, which will be called Dart Impact. \nThe event will be broadcast on Facebook Live\, here is the link:\nhttps://www.facebook.com/460180562804026/videos/1825555117786220 \nAnd it will be uploaded to Horizon’s YouTube channel with English subtitles\, here is the channel: https://youtube.com/c/HorizonLive You are invited to register for the event by clicking on the image:
URL:https://www.horizon-space.com/event/%d7%93%d7%90%d7%a8%d7%98-%d7%90%d7%99%d7%9e%d7%a4%d7%a7%d7%98/
CATEGORIES:Space week
ATTACH;FMTTYPE=image/jpeg:https://www.horizon-space.com/wp-content/uploads/2022/10/IMG-20220921-WA0022.jpg
END:VEVENT
BEGIN:VEVENT
DTSTART;TZID=UTC:20221003T180000
DTEND;TZID=UTC:20221003T193000
DTSTAMP:20260424T214124
CREATED:20221003T033316Z
LAST-MODIFIED:20221003T034132Z
UID:5226-1664820000-1664825400@www.horizon-space.com
SUMMARY:גלי כבידה וחורים שחורים
DESCRIPTION:במסגרת מיזם 100 שעות אסטרונומיה\nד”ר אסנת אלדר ממכללת אורנים מארחת את פרופ’ דורון שלוש מחוג לפיזיקה באוניברסיטת חיפה.\nהיום – יום שני בשעה 18:00 להרצאה פתוחה לקהל הרחב בנושא:\nגלי כבידה וחורים שחורים- מסע על פני מיליארד שנים ועשירית השנייה. \nתמיכה טכנית – עדי קפוארו\nadi.kapoano@oranim.ac.il \nשאלות לשלוח אל: אסנת אלדר\neldar@oranim.ac.il \nלינק לזום: https://us02web.zoom.us/j/83809931904?pwd=NXVscTNJRmQ1ZGxnMncxQUQ5NjNQdz09 \n    \n 
URL:https://www.horizon-space.com/event/%d7%92%d7%9c%d7%99-%d7%9b%d7%91%d7%99%d7%93%d7%94-%d7%95%d7%97%d7%95%d7%a8%d7%99%d7%9d-%d7%a9%d7%97%d7%95%d7%a8%d7%99%d7%9d/
LOCATION:https://us02web.zoom.us/j/83809931904?pwd=NXVscTNJRmQ1ZGxnMncxQUQ5NjNQdz09
CATEGORIES:Space week
ATTACH;FMTTYPE=image/jpeg:https://www.horizon-space.com/wp-content/uploads/2022/10/IMG-20220923-WA0014.jpg
END:VEVENT
BEGIN:VEVENT
DTSTART;TZID=UTC:20221003T080000
DTEND;TZID=UTC:20221003T170000
DTSTAMP:20260424T214124
CREATED:20221003T032847Z
LAST-MODIFIED:20221003T032847Z
UID:5223-1664784000-1664816400@www.horizon-space.com
SUMMARY:האקתון חלל בטכנודע
DESCRIPTION:
URL:https://www.horizon-space.com/event/%d7%94%d7%90%d7%a7%d7%aa%d7%95%d7%9f-%d7%97%d7%9c%d7%9c-%d7%91%d7%98%d7%9b%d7%a0%d7%95%d7%93%d7%a2/
END:VEVENT
BEGIN:VEVENT
DTSTART;TZID=UTC:20221001T190000
DTEND;TZID=UTC:20221001T213000
DTSTAMP:20260424T214124
CREATED:20220927T200250Z
LAST-MODIFIED:20220927T200250Z
UID:5178-1664650800-1664659800@www.horizon-space.com
SUMMARY:תצפית הירח הבין לאומית של נאסא מגיעה לגן יבנה
DESCRIPTION:בתצפית נחזה במכתשי הירח\, חגורות העננים של צדק וטבעותיו של שבתאי דרך טלסקופ
URL:https://www.horizon-space.com/event/%d7%aa%d7%a6%d7%a4%d7%99%d7%aa-%d7%94%d7%99%d7%a8%d7%97-%d7%94%d7%91%d7%99%d7%9f-%d7%9c%d7%90%d7%95%d7%9e%d7%99%d7%aa-%d7%a9%d7%9c-%d7%a0%d7%90%d7%a1%d7%90-%d7%9e%d7%92%d7%99%d7%a2%d7%94-%d7%9c%d7%92/
LOCATION:31.790628712776932\, 34.700356827633264\, מגרש החול הסמוך לחטיבת הביניים נעמי שמר\, גן יבנה\, Israel
CATEGORIES:ירח
ATTACH;FMTTYPE=image/png:https://www.horizon-space.com/wp-content/uploads/2022/09/Event1.png
END:VEVENT
BEGIN:VEVENT
DTSTART;TZID=UTC:20220914T200000
DTEND;TZID=UTC:20220914T220000
DTSTAMP:20260424T214124
CREATED:20220904T174402Z
LAST-MODIFIED:20220904T174402Z
UID:5154-1663185600-1663192800@www.horizon-space.com
SUMMARY:מיטאפ הרמת כוסית - הוריזון
DESCRIPTION:ברוכים הבאים למיטאפ הרמת כוסית אזורי\n  \n \n 
URL:https://www.horizon-space.com/event/%d7%9e%d7%99%d7%98%d7%90%d7%a4-%d7%94%d7%a8%d7%9e%d7%aa-%d7%9b%d7%95%d7%a1%d7%99%d7%aa-%d7%94%d7%95%d7%a8%d7%99%d7%96%d7%95%d7%9f/
ATTACH;FMTTYPE=image/png:https://www.horizon-space.com/wp-content/uploads/2021/05/milkyway.png
END:VEVENT
END:VCALENDAR