BEGIN:VCALENDAR
VERSION:2.0
PRODID:-//קהילת HORIZON - ECPv6.2.4//NONSGML v1.0//EN
CALSCALE:GREGORIAN
METHOD:PUBLISH
X-WR-CALNAME:קהילת HORIZON
X-ORIGINAL-URL:https://www.horizon-space.com
X-WR-CALDESC:אירועים ל קהילת HORIZON
REFRESH-INTERVAL;VALUE=DURATION:PT1H
X-Robots-Tag:noindex
X-PUBLISHED-TTL:PT1H
BEGIN:VTIMEZONE
TZID:UTC
BEGIN:STANDARD
TZOFFSETFROM:+0000
TZOFFSETTO:+0000
TZNAME:UTC
DTSTART:20210101T000000
END:STANDARD
END:VTIMEZONE
BEGIN:VEVENT
DTSTART;TZID=UTC:20210325T120000
DTEND;TZID=UTC:20210325T133000
DTSTAMP:20260425T034418
CREATED:20210319T170521Z
LAST-MODIFIED:20210319T170543Z
UID:4239-1616673600-1616679000@www.horizon-space.com
SUMMARY:פלנתניה אל החלל
DESCRIPTION:בואו למסע אל כוכבי הלכת \nתתנסו ותלמדו על המצאות מהחלל המשמשות אותנו ביום יום\, \nתצרו בסדנת הירח והשמש \nתפצחו את אתגר החלל הגדול \nתצפו בניסויים מדעיים \nוכמובן במערכת השמש בפלנטריום \nהדרכות בגן המדעי \nותצטלמו כמו אסטרונאוטים ואסטרונאוטיות בחלל \nימים א’-ו’- הפעילות תתקיים בסבבים:\n21-22/3\, 24-26/3 בשעות 10:00\, 12:00\n\nמתאים החל מגיל 4 \nבקבוצות קטנות \nמשך הפעילות כ-90 דק’ \n** שומרים על הנחיות משרד הבריאות \nיש לרכוש כרטיסים לכל מבקר לפני ההגעה למתחם – באינטרנט \n(לא תינתן רכישת כרטיסים במתחם)
URL:https://www.horizon-space.com/event/%d7%a4%d7%9c%d7%a0%d7%aa%d7%a0%d7%99%d7%94-%d7%90%d7%9c-%d7%94%d7%97%d7%9c%d7%9c-copy-2-copy-2-copy-copy/
LOCATION:פלנתניה\, צ'יאונה (סמפו) סוגיהארה 1\, נתניה
ATTACH;FMTTYPE=image/jpeg:https://www.horizon-space.com/wp-content/uploads/2021/03/פסח-בפלנתניה.jpg
END:VEVENT
BEGIN:VEVENT
DTSTART;TZID=UTC:20210325T100000
DTEND;TZID=UTC:20210325T113000
DTSTAMP:20260425T034418
CREATED:20210319T170353Z
LAST-MODIFIED:20210319T170611Z
UID:4233-1616666400-1616671800@www.horizon-space.com
SUMMARY:פלנתניה אל החלל
DESCRIPTION:בואו למסע אל כוכבי הלכת \nתתנסו ותלמדו על המצאות מהחלל המשמשות אותנו ביום יום\, \nתצרו בסדנת הירח והשמש \nתפצחו את אתגר החלל הגדול \nתצפו בניסויים מדעיים \nוכמובן במערכת השמש בפלנטריום \nהדרכות בגן המדעי \nותצטלמו כמו אסטרונאוטים ואסטרונאוטיות בחלל \nימים א’-ו’- הפעילות תתקיים בסבבים:\n21-22/3\, 24-26/3 בשעות 10:00\, 12:00\n\nמתאים החל מגיל 4 \nבקבוצות קטנות \nמשך הפעילות כ-90 דק’ \n** שומרים על הנחיות משרד הבריאות \nיש לרכוש כרטיסים לכל מבקר לפני ההגעה למתחם – באינטרנט \n(לא תינתן רכישת כרטיסים במתחם)
URL:https://www.horizon-space.com/event/%d7%a4%d7%9c%d7%a0%d7%aa%d7%a0%d7%99%d7%94-%d7%90%d7%9c-%d7%94%d7%97%d7%9c%d7%9c-copy-2-copy-2/
LOCATION:פלנתניה\, צ'יאונה (סמפו) סוגיהארה 1\, נתניה
ATTACH;FMTTYPE=image/jpeg:https://www.horizon-space.com/wp-content/uploads/2021/03/פסח-בפלנתניה.jpg
END:VEVENT
BEGIN:VEVENT
DTSTART;TZID=UTC:20210324T193000
DTEND;TZID=UTC:20210324T193000
DTSTAMP:20260425T034418
CREATED:20210319T110727Z
LAST-MODIFIED:20210319T110947Z
UID:4208-1616614200-1616614200@www.horizon-space.com
SUMMARY:תופעות מזג-אוויר קיצוניות בכדור הארץ ובמאדים - דומה ושונה
DESCRIPTION:הרצאתו של שמוליק צ’אושו:\nחשבתם שראיתם את כל סוגי הברקים? תחשבו שוב. ואיך בכלל אפשר להתנהל במינוס 55 מעלות מתחת לאפס? ומה לגבי שלג\, ברד וגשם? חקר מזג האוויר במאדים הרבה יותר משמעותי ממה שאילון מאסק חושב\, ומסתבר שלאיחוד האמירויות יש חלק נכבד במשימה.\nבהרצאה נסקור תופעות מזג אויר קיצוניות\, כפי שאנחנו מכירים פה בכדור שלנו\, וננסה להבין איך הן מתנהלות בכוכב הלכת המדברי והקפוא מאדים\, איך מתמודדים עם זה ולמה זה בכלל מעניין אותנו.\n**ההשתתפות בחינם וכרוכה בהרשמה מראש** \nלפרטים והרשמה לחצו על התמונה \n \n  \n  \n 
URL:https://www.horizon-space.com/event/%d7%aa%d7%95%d7%a4%d7%a2%d7%95%d7%aa-%d7%9e%d7%96%d7%92-%d7%90%d7%95%d7%95%d7%99%d7%a8-%d7%a7%d7%99%d7%a6%d7%95%d7%a0%d7%99%d7%95%d7%aa-%d7%91%d7%9b%d7%93%d7%95%d7%a8-%d7%94%d7%90%d7%a8%d7%a5-%d7%95/
LOCATION:זום\, online
ATTACH;FMTTYPE=image/jpeg:https://www.horizon-space.com/wp-content/uploads/2021/03/pexels-johan-de-beer-5476413-scaled.jpg
END:VEVENT
BEGIN:VEVENT
DTSTART;TZID=UTC:20210324T120000
DTEND;TZID=UTC:20210324T133000
DTSTAMP:20260425T034418
CREATED:20210319T170430Z
LAST-MODIFIED:20210319T170503Z
UID:4236-1616587200-1616592600@www.horizon-space.com
SUMMARY:פלנתניה אל החלל
DESCRIPTION:בואו למסע אל כוכבי הלכת \nתתנסו ותלמדו על המצאות מהחלל המשמשות אותנו ביום יום\, \nתצרו בסדנת הירח והשמש \nתפצחו את אתגר החלל הגדול \nתצפו בניסויים מדעיים \nוכמובן במערכת השמש בפלנטריום \nהדרכות בגן המדעי \nותצטלמו כמו אסטרונאוטים ואסטרונאוטיות בחלל \nימים א’-ו’- הפעילות תתקיים בסבבים:\n21-22/3\, 24-26/3 בשעות 10:00\, 12:00\n\nמתאים החל מגיל 4 \nבקבוצות קטנות \nמשך הפעילות כ-90 דק’ \n** שומרים על הנחיות משרד הבריאות \nיש לרכוש כרטיסים לכל מבקר לפני ההגעה למתחם – באינטרנט \n(לא תינתן רכישת כרטיסים במתחם)
URL:https://www.horizon-space.com/event/%d7%a4%d7%9c%d7%a0%d7%aa%d7%a0%d7%99%d7%94-%d7%90%d7%9c-%d7%94%d7%97%d7%9c%d7%9c-copy-2-copy-2-copy/
LOCATION:פלנתניה\, צ'יאונה (סמפו) סוגיהארה 1\, נתניה
ATTACH;FMTTYPE=image/jpeg:https://www.horizon-space.com/wp-content/uploads/2021/03/פסח-בפלנתניה.jpg
END:VEVENT
BEGIN:VEVENT
DTSTART;TZID=UTC:20210324T100000
DTEND;TZID=UTC:20210324T113000
DTSTAMP:20260425T034418
CREATED:20210319T170718Z
LAST-MODIFIED:20210319T170741Z
UID:4243-1616580000-1616585400@www.horizon-space.com
SUMMARY:פלנתניה אל החלל
DESCRIPTION:בואו למסע אל כוכבי הלכת \nתתנסו ותלמדו על המצאות מהחלל המשמשות אותנו ביום יום\, \nתצרו בסדנת הירח והשמש \nתפצחו את אתגר החלל הגדול \nתצפו בניסויים מדעיים \nוכמובן במערכת השמש בפלנטריום \nהדרכות בגן המדעי \nותצטלמו כמו אסטרונאוטים ואסטרונאוטיות בחלל \nימים א’-ו’- הפעילות תתקיים בסבבים:\n21-22/3\, 24-26/3 בשעות 10:00\, 12:00\n\nמתאים החל מגיל 4 \nבקבוצות קטנות \nמשך הפעילות כ-90 דק’ \n** שומרים על הנחיות משרד הבריאות \nיש לרכוש כרטיסים לכל מבקר לפני ההגעה למתחם – באינטרנט \n(לא תינתן רכישת כרטיסים במתחם)
URL:https://www.horizon-space.com/event/%d7%a4%d7%9c%d7%a0%d7%aa%d7%a0%d7%99%d7%94-%d7%90%d7%9c-%d7%94%d7%97%d7%9c%d7%9c-copy-2-copy-2-copy-2/
LOCATION:פלנתניה\, צ'יאונה (סמפו) סוגיהארה 1\, נתניה
ATTACH;FMTTYPE=image/jpeg:https://www.horizon-space.com/wp-content/uploads/2021/03/פסח-בפלנתניה.jpg
END:VEVENT
BEGIN:VEVENT
DTSTART;TZID=UTC:20210322T120000
DTEND;TZID=UTC:20210322T133000
DTSTAMP:20260425T034418
CREATED:20210319T170221Z
LAST-MODIFIED:20210319T170248Z
UID:4230-1616414400-1616419800@www.horizon-space.com
SUMMARY:פלנתניה אל החלל
DESCRIPTION:בואו למסע אל כוכבי הלכת \nתתנסו ותלמדו על המצאות מהחלל המשמשות אותנו ביום יום\, \nתצרו בסדנת הירח והשמש \nתפצחו את אתגר החלל הגדול \nתצפו בניסויים מדעיים \nוכמובן במערכת השמש בפלנטריום \nהדרכות בגן המדעי \nותצטלמו כמו אסטרונאוטים ואסטרונאוטיות בחלל \nימים א’-ו’- הפעילות תתקיים בסבבים:\n21-22/3\, 24-26/3 בשעות 10:00\, 12:00\n\nמתאים החל מגיל 4 \nבקבוצות קטנות \nמשך הפעילות כ-90 דק’ \n** שומרים על הנחיות משרד הבריאות \nיש לרכוש כרטיסים לכל מבקר לפני ההגעה למתחם – באינטרנט \n(לא תינתן רכישת כרטיסים במתחם)
URL:https://www.horizon-space.com/event/%d7%a4%d7%9c%d7%a0%d7%aa%d7%a0%d7%99%d7%94-%d7%90%d7%9c-%d7%94%d7%97%d7%9c%d7%9c-copy-2-copy/
LOCATION:פלנתניה\, צ'יאונה (סמפו) סוגיהארה 1\, נתניה
ATTACH;FMTTYPE=image/jpeg:https://www.horizon-space.com/wp-content/uploads/2021/03/פסח-בפלנתניה.jpg
END:VEVENT
BEGIN:VEVENT
DTSTART;TZID=UTC:20210322T100000
DTEND;TZID=UTC:20210322T113000
DTSTAMP:20260425T034418
CREATED:20210319T170012Z
LAST-MODIFIED:20210319T170050Z
UID:4226-1616407200-1616412600@www.horizon-space.com
SUMMARY:פלנתניה אל החלל
DESCRIPTION:בואו למסע אל כוכבי הלכת \nתתנסו ותלמדו על המצאות מהחלל המשמשות אותנו ביום יום\, \nתצרו בסדנת הירח והשמש \nתפצחו את אתגר החלל הגדול \nתצפו בניסויים מדעיים \nוכמובן במערכת השמש בפלנטריום \nהדרכות בגן המדעי \nותצטלמו כמו אסטרונאוטים ואסטרונאוטיות בחלל \nימים א’-ו’- הפעילות תתקיים בסבבים:\n21-22/3\, 24-26/3 בשעות 10:00\, 12:00\n\nמתאים החל מגיל 4 \nבקבוצות קטנות \nמשך הפעילות כ-90 דק’ \n** שומרים על הנחיות משרד הבריאות \nיש לרכוש כרטיסים לכל מבקר לפני ההגעה למתחם – באינטרנט \n(לא תינתן רכישת כרטיסים במתחם)
URL:https://www.horizon-space.com/event/%d7%a4%d7%9c%d7%a0%d7%aa%d7%a0%d7%99%d7%94-%d7%90%d7%9c-%d7%94%d7%97%d7%9c%d7%9c-copy-2/
LOCATION:פלנתניה\, צ'יאונה (סמפו) סוגיהארה 1\, נתניה
ATTACH;FMTTYPE=image/jpeg:https://www.horizon-space.com/wp-content/uploads/2021/03/פסח-בפלנתניה.jpg
END:VEVENT
BEGIN:VEVENT
DTSTART;TZID=UTC:20210322T093000
DTEND;TZID=UTC:20210322T150000
DTSTAMP:20260425T034418
CREATED:20210319T073103Z
LAST-MODIFIED:20210319T073415Z
UID:4202-1616405400-1616425200@www.horizon-space.com
SUMMARY:נפלאות הבין-תחומיוּת בחינוך ל-STEAM
DESCRIPTION:מוזמנים להרצאה של שמואל צ’אושו בנושא הכשרת מורים מייקרים לשימוש בהאקתון ככלי פדגוגי  \nבמסגרת יום עיון “נפלאות הבין בתחומיות בחינוך ל STEM “ \nלמידע נוסף והרשמה- לחצו על התמונה \n \n 
URL:https://www.horizon-space.com/event/%d7%a0%d7%a4%d7%9c%d7%90%d7%95%d7%aa-%d7%94%d7%91%d7%99%d7%9f-%d7%aa%d7%97%d7%95%d7%9e%d7%99%d7%95%d6%bc%d7%aa-%d7%91%d7%97%d7%99%d7%a0%d7%95%d7%9a-%d7%9c-steam/
CATEGORIES:הכשרת מורים
ATTACH;FMTTYPE=image/jpeg:https://www.horizon-space.com/wp-content/uploads/2021/03/STEM.jpg
END:VEVENT
BEGIN:VEVENT
DTSTART;TZID=UTC:20210322T093000
DTEND;TZID=UTC:20210322T103000
DTSTAMP:20260425T034418
CREATED:20210322T052110Z
LAST-MODIFIED:20210322T052110Z
UID:4252-1616405400-1616409000@www.horizon-space.com
SUMMARY:העשרה במדעים לכבוד האביב
DESCRIPTION:מפגש זום מרתק בנושא “מה מתחדש בטבע באביב ?  \nמהרו להרשם \nלטופס רישום לחצו על התמונה
URL:https://www.horizon-space.com/event/%d7%94%d7%a2%d7%a9%d7%a8%d7%94-%d7%91%d7%9e%d7%93%d7%a2%d7%99%d7%9d-%d7%9c%d7%9b%d7%91%d7%95%d7%93-%d7%94%d7%90%d7%91%d7%99%d7%91/
LOCATION:זום\, online
ATTACH;FMTTYPE=image/jpeg:https://www.horizon-space.com/wp-content/uploads/2021/03/העשרה-במדעים-לכבוד-האביב.jpg
END:VEVENT
BEGIN:VEVENT
DTSTART;TZID=UTC:20210321T120000
DTEND;TZID=UTC:20210321T133000
DTSTAMP:20260425T034418
CREATED:20210319T165827Z
LAST-MODIFIED:20210319T165906Z
UID:4221-1616328000-1616333400@www.horizon-space.com
SUMMARY:פלנתניה אל החלל
DESCRIPTION:בואו למסע אל כוכבי הלכת \nתתנסו ותלמדו על המצאות מהחלל המשמשות אותנו ביום יום\, \nתצרו בסדנת הירח והשמש \nתפצחו את אתגר החלל הגדול \nתצפו בניסויים מדעיים \nוכמובן במערכת השמש בפלנטריום \nהדרכות בגן המדעי \nותצטלמו כמו אסטרונאוטים ואסטרונאוטיות בחלל \nימים א’-ו’- הפעילות תתקיים בסבבים:\n21-22/3\, 24-26/3 בשעות 10:00\, 12:00\n\nמתאים החל מגיל 4 \nבקבוצות קטנות \nמשך הפעילות כ-90 דק’ \n** שומרים על הנחיות משרד הבריאות \nיש לרכוש כרטיסים לכל מבקר לפני ההגעה למתחם – באינטרנט \n(לא תינתן רכישת כרטיסים במתחם)
URL:https://www.horizon-space.com/event/%d7%a4%d7%9c%d7%a0%d7%aa%d7%a0%d7%99%d7%94-%d7%90%d7%9c-%d7%94%d7%97%d7%9c%d7%9c-copy/
LOCATION:פלנתניה\, צ'יאונה (סמפו) סוגיהארה 1\, נתניה
ATTACH;FMTTYPE=image/jpeg:https://www.horizon-space.com/wp-content/uploads/2021/03/פסח-בפלנתניה.jpg
END:VEVENT
BEGIN:VEVENT
DTSTART;TZID=UTC:20210321T100000
DTEND;TZID=UTC:20210321T113000
DTSTAMP:20260425T034418
CREATED:20210319T165806Z
LAST-MODIFIED:20210319T165806Z
UID:4216-1616320800-1616326200@www.horizon-space.com
SUMMARY:פלנתניה אל החלל
DESCRIPTION:בואו למסע אל כוכבי הלכת \nתתנסו ותלמדו על המצאות מהחלל המשמשות אותנו ביום יום\, \nתצרו בסדנת הירח והשמש \nתפצחו את אתגר החלל הגדול \nתצפו בניסויים מדעיים \nוכמובן במערכת השמש בפלנטריום \nהדרכות בגן המדעי \nותצטלמו כמו אסטרונאוטים ואסטרונאוטיות בחלל \n\nימים א’-ו’- הפעילות תתקיים בסבבים:\n21-22/3\, 24-26/3 בשעות 10:00\, 12:00\n\nמתאים החל מגיל 4 \nבקבוצות קטנות \nמשך הפעילות כ-90 דק’ \n** שומרים על הנחיות משרד הבריאות \nיש לרכוש כרטיסים לכל מבקר לפני ההגעה למתחם – באינטרנט \n(לא תינתן רכישת כרטיסים במתחם)
URL:https://www.horizon-space.com/event/%d7%a4%d7%9c%d7%a0%d7%aa%d7%a0%d7%99%d7%94-%d7%90%d7%9c-%d7%94%d7%97%d7%9c%d7%9c/
LOCATION:פלנתניה\, צ'יאונה (סמפו) סוגיהארה 1\, נתניה
ATTACH;FMTTYPE=image/jpeg:https://www.horizon-space.com/wp-content/uploads/2021/03/פסח-בפלנתניה.jpg
END:VEVENT
BEGIN:VEVENT
DTSTART;TZID=UTC:20210318T203000
DTEND;TZID=UTC:20210318T203000
DTSTAMP:20260425T034418
CREATED:20210315T170417Z
LAST-MODIFIED:20210315T170417Z
UID:4190-1616099400-1616099400@www.horizon-space.com
SUMMARY:בדרך לירח- סיפורה המופלא של החללית בראשית
DESCRIPTION:מזמינים אתכם לשמוע את סיפורה של העמותה במפגש וירטואלי מרתק \n עם כפיר דמרי  (מייסד העמותה) ושמעון שריד (מנכ”ל העמותה) \nבשיתוף פעולה עם בית אריאלה וספריות תל אביב – יפו \nעיריית תל-אביב-יפו\n\nלהרשמה- יש ללחוץ על התמונה\n\n 
URL:https://www.horizon-space.com/event/%d7%91%d7%93%d7%a8%d7%9a-%d7%9c%d7%99%d7%a8%d7%97-%d7%a1%d7%99%d7%a4%d7%95%d7%a8%d7%94-%d7%94%d7%9e%d7%95%d7%a4%d7%9c%d7%90-%d7%a9%d7%9c-%d7%94%d7%97%d7%9c%d7%9c%d7%99%d7%aa-%d7%91%d7%a8%d7%90%d7%a9/
CATEGORIES:החללית בראשית
ATTACH;FMTTYPE=image/jpeg:https://www.horizon-space.com/wp-content/uploads/2021/03/בדרך-לירח.jpg
END:VEVENT
BEGIN:VEVENT
DTSTART;TZID=UTC:20210314T173000
DTEND;TZID=UTC:20210314T173000
DTSTAMP:20260425T034418
CREATED:20210307T200242Z
LAST-MODIFIED:20210308T201502Z
UID:4156-1615743000-1615743000@www.horizon-space.com
SUMMARY:נחיתה על מאדים והחומר האפל
DESCRIPTION:מפגש חובבי אסטרונומיה: נחיתה על מאדים והחומר האפל\n\nמפגש מקוון לחובבי אסטרונומיה יתקיים ביום ראשון א’ ניסן תשפ”א 14.3.21 בשעה 17:30\nלרישום\, יש ללחוץ על התמונה
URL:https://www.horizon-space.com/event/%d7%a0%d7%97%d7%99%d7%aa%d7%94-%d7%a2%d7%9c-%d7%9e%d7%90%d7%93%d7%99%d7%9d-%d7%95%d7%94%d7%97%d7%95%d7%9e%d7%a8-%d7%94%d7%90%d7%a4%d7%9c/
LOCATION:זום\, online
CATEGORIES:מאדים
ATTACH;FMTTYPE=image/png:https://www.horizon-space.com/wp-content/uploads/2021/03/פרסבירנס.png
END:VEVENT
BEGIN:VEVENT
DTSTART;TZID=UTC:20210313T203000
DTEND;TZID=UTC:20210313T203000
DTSTAMP:20260425T034418
CREATED:20210308T144622Z
LAST-MODIFIED:20210310T090114Z
UID:4163-1615667400-1615667400@www.horizon-space.com
SUMMARY:יפה כלבנה
DESCRIPTION:לקדש את האישה שבך! \nלרגל יום האישה הבינלאומי\, \nנציגות קהילת HORIZON של סוכנות החלל הישראלית מזמינות \nאותך לערב שכולו חיבור לאישה שאת. \nיפה כלבנה \nזוהי סדנא שהכנו במיוחד עבורך\, להעמקת הידע וההתבוננות בלבנה ותכונותיה\, תוך מבט פנימי אלייך כאישה. יחד נחקור ונחווה את דמיון הלבנה אלינו כנשים\, ואת הטבע המשותף לנו.\nבסדנא תחשפי לידע אסטרונומי\, מקורות מהמסורת היהודית\, שותפות לשיח ולדיון\, וכלים דרכם תוכלי להעביר את המסרים גם לתלמידותייך וקרובותייך. \nהסדנא תתקיים בערב ראש חודש ניסן\, מוצאי שבת “החודש”\, ה-13.3 בשעה 20:30 בזום.  \nבתאריך מיוחד זה\, נעסוק במצווה הראשונה בתורה\, מצוות קידוש החודש ונבין איך היא קושרת אותנו כנשים ללבנה. \nמצפות לראותך\, עם דף וכלי כתיבה🖋️📋\nעינת בן אליהו ויעל בן נון\nנציגות קהילת הוריזון \nלהרשמה יש למלא את הטופס בלחיצה על התמונה: \n 
URL:https://www.horizon-space.com/event/%d7%99%d7%a4%d7%94-%d7%9b%d7%9c%d7%91%d7%a0%d7%94/
LOCATION:זום\, online
CATEGORIES:ירח
ATTACH;FMTTYPE=image/jpeg:https://www.horizon-space.com/wp-content/uploads/2021/03/women-moon.jpg
END:VEVENT
BEGIN:VEVENT
DTSTART;TZID=UTC:20210311T130000
DTEND;TZID=UTC:20210311T153000
DTSTAMP:20260425T034418
CREATED:20210311T074319Z
LAST-MODIFIED:20210311T074319Z
UID:4184-1615467600-1615476600@www.horizon-space.com
SUMMARY:Spaceil in Saint Petersburg
DESCRIPTION:A series of 3 lectures every Thursday in several schools across Saint Petersburg about Spaceil: From beresheet 1 to Beresheet 2 \,by Horizon member\, Nir Dubrovsky
URL:https://www.horizon-space.com/event/spaceil-in-saint-petersburg/
LOCATION:school 550\, торговый переулок 2\, САНКТ-ПЕТЕРБУРГ\, САНКТ-ПЕТЕРБУРГ\, 197375
ATTACH;FMTTYPE=image/png:https://www.horizon-space.com/wp-content/uploads/2021/03/spaceils.png
END:VEVENT
BEGIN:VEVENT
DTSTART;TZID=UTC:20210310T180000
DTEND;TZID=UTC:20210310T190000
DTSTAMP:20260425T034418
CREATED:20210308T170256Z
LAST-MODIFIED:20210310T090155Z
UID:4170-1615399200-1615402800@www.horizon-space.com
SUMMARY:הרצאות תלמידים - מפגש 31
DESCRIPTION:https://edu-il.zoom.us/j/82642991812
URL:https://www.horizon-space.com/event/%d7%94%d7%a8%d7%a6%d7%90%d7%95%d7%aa-%d7%aa%d7%9c%d7%9e%d7%99%d7%93%d7%99%d7%9d-%d7%9e%d7%a4%d7%92%d7%a9-31/
LOCATION:זום\, online
CATEGORIES:הרצאות תלמידים
ATTACH;FMTTYPE=image/jpeg:https://www.horizon-space.com/wp-content/uploads/2021/03/הרצאות-תלמידים31.jpg
END:VEVENT
BEGIN:VEVENT
DTSTART;TZID=UTC:20210310T160000
DTEND;TZID=UTC:20210310T170000
DTSTAMP:20260425T034418
CREATED:20210305T073756Z
LAST-MODIFIED:20210310T090249Z
UID:4118-1615392000-1615395600@www.horizon-space.com
SUMMARY:לומדים בין כוכבים
DESCRIPTION:לומדים בין כוכבים\nלחלל ישנו קסם ומסתורין רב\, ככל שהזמן מתקדם האדם מצליח לאסוף וללמוד\nיותר ויותר מידע ופרטים על הנסתר והקסום.\nכיצד ניתן לפתח נושאי לימוד אלו ולהעצים יותר ויותר את הסקרנות ומיומנויות הלומד?\nזאת נכיר באמצעות\nשני פיתוחים יוצאי דופן וייחודיים בתחום.\nבהובלת בתי הספר\nשגיא – קיבוץ שריד ו אלאשראק – עין קנייא \nלהרשמה לאירוע לחצו על התמונה
URL:https://www.horizon-space.com/event/%d7%9c%d7%95%d7%9e%d7%93%d7%99%d7%9d-%d7%91%d7%99%d7%9f-%d7%9b%d7%95%d7%9b%d7%91%d7%99%d7%9d/
LOCATION:זום\, online
ATTACH;FMTTYPE=image/jpeg:https://www.horizon-space.com/wp-content/uploads/2021/03/ארוע-חביבה.jpg
END:VEVENT
BEGIN:VEVENT
DTSTART;TZID=UTC:20210307T160000
DTEND;TZID=UTC:20210307T170000
DTSTAMP:20260425T034418
CREATED:20210305T190206Z
LAST-MODIFIED:20210305T191926Z
UID:4128-1615132800-1615136400@www.horizon-space.com
SUMMARY:עד השמים וחזרה
DESCRIPTION:מרכז קהילתי עולמות בפתח תקוה\, מזמינים אתכם להרצאה בזום\nעתיד האנושות – הרצאתו של איל בן זאב \nלרישום להרצאה\, לחצו על התמונה המצורפת
URL:https://www.horizon-space.com/event/%d7%a2%d7%93-%d7%94%d7%a9%d7%9e%d7%99%d7%9d-%d7%95%d7%97%d7%96%d7%a8%d7%94/
LOCATION:zoom
ATTACH;FMTTYPE=image/jpeg:https://www.horizon-space.com/wp-content/uploads/2021/03/עד-השמים-וחזרה-1.jpg
END:VEVENT
END:VCALENDAR