BEGIN:VCALENDAR
VERSION:2.0
PRODID:-//קהילת HORIZON - ECPv6.2.4//NONSGML v1.0//EN
CALSCALE:GREGORIAN
METHOD:PUBLISH
X-WR-CALNAME:קהילת HORIZON
X-ORIGINAL-URL:https://www.horizon-space.com
X-WR-CALDESC:אירועים ל קהילת HORIZON
REFRESH-INTERVAL;VALUE=DURATION:PT1H
X-Robots-Tag:noindex
X-PUBLISHED-TTL:PT1H
BEGIN:VTIMEZONE
TZID:UTC
BEGIN:STANDARD
TZOFFSETFROM:+0000
TZOFFSETTO:+0000
TZNAME:UTC
DTSTART:20240101T000000
END:STANDARD
END:VTIMEZONE
BEGIN:VEVENT
DTSTART;VALUE=DATE:20240201
DTEND;VALUE=DATE:20240202
DTSTAMP:20260424T103917
CREATED:20240127T202206Z
LAST-MODIFIED:20240127T202428Z
UID:6410-1706745600-1706831999@www.horizon-space.com
SUMMARY:תערוכת “מבט לאינסוף”
DESCRIPTION:צלמי חלל ישראלים מציגים: “מבט אל האינסוף”\, תערוכה נודדת של צילומי חלל מרהיבים ביופיים\, במסגרתה נצא למסע מפעים לבבות\, שראשיתו בצילומים של גרמי שמיים קרובים\, כגון: השמש והירח\, והמשכו הרחק אל מרחביו האינסופיים של החלל העמוק\, שם נפגוש\, בין השאר\, בצבירי כוכבים\, בערפיליות ובגלקסיות המרוחקות עשרות ואף מאות מיליוני שנות אור מכדור הארץ. הצילומים המרהיבים המוצגים לפניכם\, לא צולמו במצפי כוכבים גדולים או בעזרת טלסקופי חלל משוכללים\, אלא באמצעות ציוד ביתי של חובבי אסטרונמיה מושבעים\, שהשמיים עבורם מעולם לא היו גבול.
URL:https://www.horizon-space.com/event/%d7%aa%d7%a2%d7%a8%d7%95%d7%9b%d7%aa-%d7%9e%d7%91%d7%98-%d7%9c%d7%90%d7%99%d7%a0%d7%a1%d7%95%d7%a3-copy-2-copy/
LOCATION:מתנס ברקוביץ\, נוף הגליל
CATEGORIES:Space week 2024
ATTACH;FMTTYPE=image/jpeg:https://www.horizon-space.com/wp-content/uploads/2024/01/מבט-לאינסוף.jpg
END:VEVENT
BEGIN:VEVENT
DTSTART;TZID=UTC:20240201T133000
DTEND;TZID=UTC:20240201T203000
DTSTAMP:20260424T103917
CREATED:20240127T090029Z
LAST-MODIFIED:20240127T090029Z
UID:6345-1706794200-1706819400@www.horizon-space.com
SUMMARY:הנוף לחלל מנוף הגליל
DESCRIPTION:גם השנה SPACE VALLEY מנחיתה את שבוע החלל הישראלי בנוף הגליל ואתם מוזמנים לאירוע חינמי\, בקנה מידה אסטרונומי! \n\nיריד החלל השנה יכלול המון תחנות ואטרקציות עם חוויה מעשירה ומלמדת לכל המשפחה: \n\nמאדים ב-3 מימדים\nמופע פלנטריום עוצר נשימה ב-360 מעלות\nסדנאות יצירה בנושאי מדע בתחום החלל\nהדגמות בנושאים חשמל בחלל\, אטמוספירה וקרינה\nאתגר משפחתי בנושא כוח המשיכה\nתצפית טלסקופים והדרכה על כיפת השמיים עם סמני לייזר בשעות הערב (תלוי במזג האוויר)
URL:https://www.horizon-space.com/event/%d7%94%d7%a0%d7%95%d7%a3-%d7%9c%d7%97%d7%9c%d7%9c-%d7%9e%d7%a0%d7%95%d7%a3-%d7%94%d7%92%d7%9c%d7%99%d7%9c/
LOCATION:מרכז קהילתי והיכל התרבות ע”ש ברקוביץ’\, שדרות מעלה יצחק 4\, נוף הגליל
CATEGORIES:Space week 2024
ATTACH;FMTTYPE=image/jpeg:https://www.horizon-space.com/wp-content/uploads/2024/01/הנוף-לחלל-מנוף-הגליל.jpg
END:VEVENT
BEGIN:VEVENT
DTSTART;TZID=UTC:20240201T160000
DTEND;TZID=UTC:20240201T200000
DTSTAMP:20260424T103917
CREATED:20240127T090853Z
LAST-MODIFIED:20240127T090853Z
UID:6356-1706803200-1706817600@www.horizon-space.com
SUMMARY:מביטים למעלה במצפה כנרת
DESCRIPTION:מצפה הכוכבים כנרת בשיתוף סוכנות החלל הישראלית מזמינים אתכם לסדרת סדנאות בנושאי חלל ואסטרונומיה: פלנטריום\, תערוכת טילים וטילאות\, טלסקופ רובוטי\, טלסקופים לצפייה ישירה\, חקירה של מופעי ירח\, חלליות בראשית ועוד. בנוסף ילוו את האירוע הרצאות על טלסקופי חלל.
URL:https://www.horizon-space.com/event/%d7%9e%d7%91%d7%99%d7%98%d7%99%d7%9d-%d7%9c%d7%9e%d7%a2%d7%9c%d7%94-%d7%91%d7%9e%d7%a6%d7%a4%d7%94-%d7%9b%d7%a0%d7%a8%d7%aa/
LOCATION:המרכז לחינוך אסטרונומי כנרת\, המכללה האקדמית כנרת\, עמק הירדן\, אולם 812 בבית אחי
CATEGORIES:Space week 2024
ATTACH;FMTTYPE=image/jpeg:https://www.horizon-space.com/wp-content/uploads/2024/01/מביטים-למעלה-במצפה-כנרת.jpg
END:VEVENT
BEGIN:VEVENT
DTSTART;TZID=UTC:20240201T163000
DTEND;TZID=UTC:20240201T210000
DTSTAMP:20260424T103917
CREATED:20240127T090414Z
LAST-MODIFIED:20240127T090414Z
UID:6351-1706805000-1706821200@www.horizon-space.com
SUMMARY:מדע בין כוכבים במכון דוידסון
DESCRIPTION:כיצד מזהים כוכבי לכת בשמי הלילה\, מה טעמו של שוקו בחלל\, למה הירח נראה כמו בננה לפעמים וכיצד מעצבים חללית בעזרת AI?\n\nביום חמישי 1.2.24 תוכלו לגלות את כל אלה ועוד\, ביריד חלל שלא מהעולם הזה. מכון דוידסון לחינוך מדעי בשיתוף סוכנות החלל הישראלית מזמינים אתכם לצאת למסע בין כוכבים: ערב של הפעלות\, סדנאות\, הרצאות ותצפיות אסטרונומיה. אז מה בתוכנית:\n\nסדנאות:\n\nסודות הירח – נגלה יחד את מסלול הירח וכיצד הוא מושפע מהשמש ומכדור הארץ\nמאסטר שף בין כוכבים – ננסה לאכול ולשתות כמו האסטרונאוטים שחיים בתחנת החלל הבינלאומית\nבואו להיות מעצבי על חלל ב-AI – נלמד “לדבר” עם תוכנת בינה מלאכותית כדי לעצב חללית משלנו.\n\n\nהרצאות מרתקות על:\n\nטלסקופ החלל הישראלי הראשון “אולטראסט”.\nאיך נגור על הירח? האתגרים הצפויים בהקמת התיישבות על הירח.\nזהו צעד קטן לאדם\, נעלי ספורט לאנושות – ההמצאות שהתחילו בחלל ועברו לשימוש יום-יומי בכדור הארץ.\n\n\nותצפיות שבהן נביט למעלה\, לשמים:\n\nנתבונן בכוכבים באמצעות משקפות וטלסקופים מתקדמים\nנגלה קבוצות כוכבים מיוחדות בפלנטריום המתנפח שלנו\nואפילו נתחרה בחידון משפחתי חללי ומסעיר במיוחד!
URL:https://www.horizon-space.com/event/%d7%9e%d7%93%d7%a2-%d7%91%d7%99%d7%9f-%d7%9b%d7%95%d7%9b%d7%91%d7%99%d7%9d-%d7%91%d7%9e%d7%9b%d7%95%d7%9f-%d7%93%d7%95%d7%99%d7%93%d7%a1%d7%95%d7%9f/
LOCATION:מכון ויצמן למדע\, רחובות
CATEGORIES:Space week 2024
ATTACH;FMTTYPE=image/jpeg:https://www.horizon-space.com/wp-content/uploads/2024/01/מדע-בין-כוכבים-במכון-דוידסון.jpg
END:VEVENT
BEGIN:VEVENT
DTSTART;TZID=UTC:20240201T170000
DTEND;TZID=UTC:20240201T200000
DTSTAMP:20260424T103917
CREATED:20240127T204110Z
LAST-MODIFIED:20240127T204110Z
UID:6423-1706806800-1706817600@www.horizon-space.com
SUMMARY:נותנים ספייס במעלה אדומים
DESCRIPTION:מצפה הכוכבים המחודש במעלה אדומים בשיתוף סוכנות החלל הישראלית מזמינים אתכם לאירוע מיוחד בשבוע החלל הישראלי: תצפיות והרצאות בתחום החלל והאסטרונומיה.מה בתוכנית:הרצאות על חורים שחורים\, משימות בחלל ועל פרוייקט ההגנה מפני אסטרואידים ועוד.הצגת ניסוי ישראלי בתחנת החלל הבינלאומיתצפיה בטלסקופים על ערפיליות\, כוכבי לכת וגלקסיותפינות יצירהמשקפי תלת מימד ומשחקי מחשבהאירוע המרכזי יחל בשעה 18:30
URL:https://www.horizon-space.com/event/%d7%a0%d7%95%d7%aa%d7%a0%d7%99%d7%9d-%d7%a1%d7%a4%d7%99%d7%99%d7%a1-%d7%91%d7%9e%d7%a2%d7%9c%d7%94-%d7%90%d7%93%d7%95%d7%9e%d7%99%d7%9d/
LOCATION:מצפה הכוכבים מעלה אדומים דרך קדם 70\, בתוך התיכון הרב תחומי לתעופה וחלל
CATEGORIES:Space week 2024
ATTACH;FMTTYPE=image/jpeg:https://www.horizon-space.com/wp-content/uploads/2024/01/נותנים-ספייס-במעלה-אדומים.jpg
END:VEVENT
BEGIN:VEVENT
DTSTART;TZID=UTC:20240201T181500
DTEND;TZID=UTC:20240201T193000
DTSTAMP:20260424T103917
CREATED:20240127T085350Z
LAST-MODIFIED:20240127T085350Z
UID:6341-1706811300-1706815800@www.horizon-space.com
SUMMARY:משדר חי עם האסטרונאוט לי מורין
DESCRIPTION:האסטרונאוט ד”ר לי מורין עובד כיום על החללית המאוישת אוריון\, שתשמש את האסטרונאוטים בתוכנית ארטמיס. הוא יציג את החללית וגם יענה לשאלות.
URL:https://www.horizon-space.com/event/%d7%9e%d7%a9%d7%93%d7%a8-%d7%97%d7%99-%d7%a2%d7%9d-%d7%94%d7%90%d7%a1%d7%98%d7%a8%d7%95%d7%a0%d7%90%d7%95%d7%98-%d7%9c%d7%99-%d7%9e%d7%95%d7%a8%d7%99%d7%9f/
CATEGORIES:Space week 2024
ATTACH;FMTTYPE=image/jpeg:https://www.horizon-space.com/wp-content/uploads/2024/01/משדר-חי-עם-האסטרונאוט-לי-מורין.jpg
ORGANIZER;CN="Israeli space agency":MAILTO:adi@space.gov.il
END:VEVENT
BEGIN:VEVENT
DTSTART;TZID=UTC:20240201T190000
DTEND;TZID=UTC:20240201T210000
DTSTAMP:20260424T103917
CREATED:20240126T221520Z
LAST-MODIFIED:20240126T221520Z
UID:6337-1706814000-1706821200@www.horizon-space.com
SUMMARY:מביטים למעלה במרכז החלל טייבה (ערבית)
DESCRIPTION:שימו לב: הפעילויות בשפה הערבית; الفعاليات ستمرر باللغة العربيةيدعوكم مركز فضاء الطيبة بالتعاون مع وكالة الفضاء الإسرائيلية إلى فعاليات فضاء ممتعة تتضمن ورشات وعروض توضيحية ومحاضرات ومعرضًا للفضاء.البرنامج:رصد الكواكب في التلسكوباتورشات بناء مجسمات للمنظومة الشمسيةمشاهدة فيديو القمر في القبة السماوية الرقميةرسوم توضيحية للظواهر الفلكية بمجسمات آلية من صنع المركزمحاضرة رائعة تحتوي على رسوم توضيحية مرئية لأحجام الكونعرض الصور الفلكية الملتقطة بمركز الفضاء .*سيتم إجراء الرصد في الظروف الجوية المناسبة. سيتم تنفيذ بقية الأنشطة بغض النظر.تفاصيل إضافية::الهتاف والايميل للتفاصيل: markaz.s.t@gmail.comمعلومات عن الملائمة لذوي الإعاقة: معلومات عن الملائمة لذوي الإعاقةמרכז החלל טייבה בשיתוף סוכנות החלל הישראלית מזמינים אתכם לפעילות חלל חוויינית עם תצפיות\, המחשות\, הרצאות ותערוכת חלל.מה בתוכנית:תצפיות לכוכבי הלכת בטלסקופים*פעילויות יצירה של מערכת השמשצפייה בסרטון הירח בפלנטריום הדיגיטליהמחשות של תופעות אסטרונומיות עם דגמים ממונעים תוצרת המרכזהרצאה מרתקת עם המחשות ויזואליות לסדרי גודל ביקוםהצגת צילומים אסטרונומיים שנערכו במרכז החלל.*תצפית השמיים תתקיימם בתנאי מזג אוויר הולמים. יתר הפעילויות יתקיימו ללא קשר.
URL:https://www.horizon-space.com/event/%d7%9e%d7%91%d7%99%d7%98%d7%99%d7%9d-%d7%9c%d7%9e%d7%a2%d7%9c%d7%94-%d7%91%d7%9e%d7%a8%d7%9b%d7%96-%d7%94%d7%97%d7%9c%d7%9c-%d7%98%d7%99%d7%99%d7%91%d7%94-%d7%a2%d7%a8%d7%91%d7%99%d7%aa/
LOCATION:מרכז החלל טייבה\, טייבה
CATEGORIES:Space week 2024
ATTACH;FMTTYPE=image/jpeg:https://www.horizon-space.com/wp-content/uploads/2024/01/מביטים-למעלה-במרכז-החלל-טייבה.jpg
END:VEVENT
BEGIN:VEVENT
DTSTART;TZID=UTC:20240201T190000
DTEND;TZID=UTC:20240201T213000
DTSTAMP:20260424T103917
CREATED:20240127T203624Z
LAST-MODIFIED:20240127T203624Z
UID:6418-1706814000-1706823000@www.horizon-space.com
SUMMARY:מביטים למעלה ממצפה גבעתיים
DESCRIPTION:מצפה הכוכבים בגבעתיים בשיתוף עם סוכנות החלל הישראלית מזמינים אתכם לתצפית טלסקופים בשמי הלילה\, הרצאות\, הדגמות ועוד.במקרה של גשם תתקיים הרצאה בלבד ופעילות מצומצמת במבנה.
URL:https://www.horizon-space.com/event/%d7%9e%d7%91%d7%99%d7%98%d7%99%d7%9d-%d7%9c%d7%9e%d7%a2%d7%9c%d7%94-%d7%9e%d7%9e%d7%a6%d7%a4%d7%94-%d7%92%d7%91%d7%a2%d7%aa%d7%99%d7%99%d7%9d/
LOCATION:מצפה הכוכבים גבעתיים\, המרי 66\, גבעתיים
CATEGORIES:Space week 2024
ATTACH;FMTTYPE=image/jpeg:https://www.horizon-space.com/wp-content/uploads/2024/01/מביטים-למעלה-ממצפה-גבעתיים.jpg
END:VEVENT
BEGIN:VEVENT
DTSTART;TZID=UTC:20240204T170000
DTEND;TZID=UTC:20240204T210000
DTSTAMP:20260424T103917
CREATED:20240127T103354Z
LAST-MODIFIED:20240127T103354Z
UID:6375-1707066000-1707080400@www.horizon-space.com
SUMMARY:מבטים למעלה מחוות הגמלים ועד לכוכבים
DESCRIPTION:גרובטק\, מרכז החלל קריית שמונה\, עיריית קריית שמונה\, רשת המתנסים\, סוכנות החלל הישראלית\, בשיתוף מועצה אזורית אשכול\, עיריית אילת וקהילת הורייזןמביאים את החלל עד אליכם 🌌בואו לבלות אחר הצהריים עם אבק כוכבים ✨⏲️ יום ראשון 4.2🕜 בשעות 17:00-21:00📍 חוות הגמלים\, אילת🏷️ ד”ר מולקולה🏷️פלנטריום 360 לצפייה בכוכבי הלילה🏷️הפעלות צבעוניות לילדים🏷️עמדות תצפית🏷️ניסויים ועוד המון הפתעות…🎁 \nהכניסה חופשית בהרשמה מראש\, בקישור המצורף \nhttps://docs.google.com/forms/d/e/1FAIpQLSfGwvOlJFwgzEKnoUBaL7XGMfmGaYdj4Tg1PTeFlrzCtXqVfg/viewform?usp=sf_link
URL:https://www.horizon-space.com/event/%d7%9e%d7%91%d7%98%d7%99%d7%9d-%d7%9c%d7%9e%d7%a2%d7%9c%d7%94-%d7%9e%d7%97%d7%95%d7%95%d7%aa-%d7%94%d7%92%d7%9e%d7%9c%d7%99%d7%9d-%d7%95%d7%a2%d7%93-%d7%9c%d7%9b%d7%95%d7%9b%d7%91%d7%99%d7%9d/
LOCATION:חוות הגמלים\, אילת
CATEGORIES:Space week 2024
ATTACH;FMTTYPE=image/jpeg:https://www.horizon-space.com/wp-content/uploads/2024/01/מביטים-למעלה-מחוות-הגמלים.jpg
END:VEVENT
BEGIN:VEVENT
DTSTART;VALUE=DATE:20240205
DTEND;VALUE=DATE:20240206
DTSTAMP:20260424T103917
CREATED:20240125T154721Z
LAST-MODIFIED:20240125T154958Z
UID:6242-1707091200-1707177599@www.horizon-space.com
SUMMARY:השתלמות צוותי חינוך-אולימפיאדת החלל
DESCRIPTION:ההשתלמות תיערך לאורך החודשים פברואר עד מאי בתאריכים הבאים: 05/02/2024\, 19/02/2024\, 04/03/2024\, 18/03/2024\, 01/04/2024 \,08/04/2024 \,06/05/2024\n15/05/2024 \nלינק לדף התכנית באתר אוניברסיטת תל-אביב: https://education.tau.ac.il/morim/The_Space_Olympics\nלהרשמה לחצו כאן:
URL:https://www.horizon-space.com/event/%d7%94%d7%a9%d7%aa%d7%9c%d7%9e%d7%95%d7%aa-%d7%a6%d7%95%d7%95%d7%aa%d7%99-%d7%97%d7%99%d7%a0%d7%95%d7%9a-%d7%90%d7%95%d7%9c%d7%99%d7%9e%d7%a4%d7%99%d7%90%d7%93%d7%aa-%d7%94%d7%97%d7%9c%d7%9c/
LOCATION:אוניברסיטת תל אביב
CATEGORIES:הכשרת מורים
ATTACH;FMTTYPE=image/jpeg:https://www.horizon-space.com/wp-content/uploads/2024/01/הרשמה-להשתלמות-צוותי-חינוך-עם-קישור-להרשמה_page-0001.jpg
END:VEVENT
END:VCALENDAR